This is the mail archive of the gcc-testresults@gcc.gnu.org mailing list for the GCC project.


Index Nav: [Date Index] [Subject Index] [Author Index] [Thread Index]
Message Nav: [Date Prev] [Date Next] [Thread Prev] [Thread Next]
Other format: [Raw text]

Results for 4.2.4 20080225 (prerelease) testsuite on x86_64-unknown-linux-gnu


This is a Red Hat Enterprise (GNU/)Linux 4.0 system
running on a dual 2.19 GHz AMD Opteron machine.

boot compiler: gcc 3.4.6 (Red Hat 3.4.6-3)

kernel: 2.6.9-42.EL (from Red Hat)
glibc: 2.3.4-2-25 (from Red Hat)
binutils: 2.17 (FSF release)
MPFR: 2.2.1

Only C, C++, ObjC, and Fortran are tested (no Java).
LAST_UPDATED: Mon Feb 25 09:01:57 UTC 2008 (revision 132612)

Native configuration is x86_64-unknown-linux-gnu

		=== g++ tests ===


Running target unix/

		=== g++ Summary ===

# of expected passes		13562
# of expected failures		67
# of unsupported tests		106
/var/tmp/gccbuild/4_2_branch/gcc/testsuite/g++/../../g++  version 4.2.4 20080225 (prerelease)

		=== gcc tests ===


Running target unix/
UNRESOLVED: gcc.c-torture/execute/mayalias-2.c execution,  -O3 -g 
WARNING: gcc.dg/torture/fp-int-convert-float128-timode.c  -O0  compilation failed to produce executable
WARNING: gcc.dg/torture/fp-int-convert-float128-timode.c  -O1  compilation failed to produce executable
WARNING: gcc.dg/torture/fp-int-convert-float128-timode.c  -O2  compilation failed to produce executable
WARNING: gcc.dg/torture/fp-int-convert-float128-timode.c  -O3 -fomit-frame-pointer  compilation failed to produce executable
WARNING: gcc.dg/torture/fp-int-convert-float128-timode.c  -O3 -g  compilation failed to produce executable
WARNING: gcc.dg/torture/fp-int-convert-float128-timode.c  -Os  compilation failed to produce executable
WARNING: gcc.dg/torture/fp-int-convert-float128.c  -O0  compilation failed to produce executable
WARNING: gcc.dg/torture/fp-int-convert-float128.c  -O1  compilation failed to produce executable
WARNING: gcc.dg/torture/fp-int-convert-float128.c  -O2  compilation failed to produce executable
WARNING: gcc.dg/torture/fp-int-convert-float128.c  -O3 -fomit-frame-pointer  compilation failed to produce executable
WARNING: gcc.dg/torture/fp-int-convert-float128.c  -O3 -g  compilation failed to produce executable
WARNING: gcc.dg/torture/fp-int-convert-float128.c  -Os  compilation failed to produce executable

		=== gcc Summary ===

# of expected passes		42346
# of expected failures		127
# of unresolved testcases	1
# of untested testcases		28
# of unsupported tests		405
/var/tmp/gccbuild/4_2_branch/gcc/xgcc  version 4.2.4 20080225 (prerelease)

		=== gfortran tests ===


Running target unix/
XPASS: gfortran.dg/csqrt_2.f  -O0  execution test
XPASS: gfortran.dg/csqrt_2.f  -O1  execution test
XPASS: gfortran.dg/csqrt_2.f  -O2  execution test
XPASS: gfortran.dg/csqrt_2.f  -O3 -fomit-frame-pointer  execution test
XPASS: gfortran.dg/csqrt_2.f  -O3 -fomit-frame-pointer -funroll-loops  execution test
XPASS: gfortran.dg/csqrt_2.f  -O3 -fomit-frame-pointer -funroll-all-loops -finline-functions  execution test
XPASS: gfortran.dg/csqrt_2.f  -O3 -g  execution test
XPASS: gfortran.dg/csqrt_2.f  -Os  execution test

		=== gfortran Summary ===

# of expected passes		16281
# of unexpected successes	8
# of expected failures		7
# of unsupported tests		17
/var/tmp/gccbuild/4_2_branch/gcc/testsuite/gfortran/../../gfortran  version 4.2.4 20080225 (prerelease)

		=== objc tests ===


Running target unix/

		=== objc Summary ===

# of expected passes		1806
# of expected failures		7
# of unsupported tests		24
/var/tmp/gccbuild/4_2_branch/gcc/xgcc  version 4.2.4 20080225 (prerelease)

		=== libgomp tests ===


Running target unix/

		=== libgomp Summary ===

# of expected passes		1574
		=== libmudflap tests ===


Running target unix/

		=== libmudflap Summary ===

# of expected passes		1814
		=== libstdc++ tests ===


Running target unix/
XPASS: 26_numerics/cmath/c99_classification_macros_c.cc (test for excess errors)

		=== libstdc++ Summary ===

# of expected passes		4485
# of unexpected successes	1
# of expected failures		14

Compiler version: 4.2.4 20080225 (prerelease) 
Platform: x86_64-unknown-linux-gnu
configure flags: --prefix=/u/jbuck/cvs.x86_64/4_2_branch --with-gnu-as --with-as=/u/jbuck/gnu.amd64/bin/as --with-gnu-ld --with-ld=/u/jbuck/gnu.amd64/bin/ld --with-mpfr=/u/jbuck/gnu.amd64 --enable-languages=c,c++,fortran,objc


Index Nav: [Date Index] [Subject Index] [Author Index] [Thread Index]
Message Nav: [Date Prev] [Date Next] [Thread Prev] [Thread Next]