This is the mail archive of the gcc-testresults@gcc.gnu.org mailing list for the GCC project.


Index Nav: [Date Index] [Subject Index] [Author Index] [Thread Index]
Message Nav: [Date Prev] [Date Next] [Thread Prev] [Thread Next]
Other format: [Raw text]

ACATS for 4.3.0 20080209 (experimental) [trunk revision 132202] on powerpc-rtems4.9


               === acats Summary ===
# of expected passes            2310
# of unexpected failures        2
# of unsupported tests          3
*** FAILURES: c953002 c974013

--joel


Index Nav: [Date Index] [Subject Index] [Author Index] [Thread Index]
Message Nav: [Date Prev] [Date Next] [Thread Prev] [Thread Next]