This is the mail archive of the gcc-testresults@gcc.gnu.org mailing list for the GCC project.


Index Nav: [Date Index] [Subject Index] [Author Index] [Thread Index]
Message Nav: [Date Prev] [Date Next] [Thread Prev] [Thread Next]
Other format: [Raw text]

Results for 4.2.0 20061011 (experimental) gfortran testsuite on i686-pc-linux-gnu


LAST_UPDATED: 
Native configuration is i686-pc-linux-gnu

		=== gfortran tests ===


Running target unix

		=== gfortran Summary ===

# of expected passes		14572
# of expected failures		15
# of unsupported tests		16
/home/fxcoudert/gfortran_nightbuild/ibin-20061011/gcc/testsuite/gfortran/../../gfortran  version 4.2.0 20061011 (experimental)


Compiler version: 4.2.0 20061011 (experimental) gfortran 
Platform: i686-pc-linux-gnu
configure flags: --prefix=/home/fxcoudert/gfortran_nightbuild/irun-20061011 --enable-languages=c,fortran --with-gmp=/home/fxcoudert/gfortran_nightbuild/software,;t t


Index Nav: [Date Index] [Subject Index] [Author Index] [Thread Index]
Message Nav: [Date Prev] [Date Next] [Thread Prev] [Thread Next]