This is the mail archive of the
gcc-testresults@gcc.gnu.org
mailing list for the GCC project.
Results for 4.1.1 testsuite on sparc-sun-solaris2.10
- From: Nathan Smith <nate at netapp dot com>
- To: gcc-testresults at gcc dot gnu dot org
- Date: Thu, 21 Sep 2006 19:27:00 -0700 (PDT)
- Subject: Results for 4.1.1 testsuite on sparc-sun-solaris2.10
sparc-sun-solaris2.10
SunOS horizon.eng.netapp.com 5.10 Generic_118822-25 sun4u sparc SUNW,Sun-Fire-V210
horizon: sparc-sun-solaris10, Sun-Fire-V210, 2xCPU, 1336MHz, 4096MB
configure options: --prefix=/usr/software --program-suffix=-4.1.1 --enable-languages=c,c++
Reading specs from /usr/sfw/lib/gcc/sparc-sun-solaris2.10/3.4.3/specs
Configured with: /gates/sfw10/builds/sfw10-gate/usr/src/cmd/gcc/gcc-3.4.3/configure --prefix=/usr/sfw --with-as=/usr/sfw/bin/gas --with-gnu-as --with-ld=/usr/ccs/bin/ld --without-gnu-ld --enable-languages=c,c++ --enable-shared
Thread model: posix
gcc version 3.4.3 (csl-sol210-3_4-branch+sol_rpath)
LAST_UPDATED: Obtained from SVN: tags/gcc_4_1_1_release revision 114100
Native configuration is sparc-sun-solaris2.10
=== g++ tests ===
Running target unix
ERROR: g++.dg/abi/rtti1.C: error executing dg-final: couldn't execute "c++filt": no such file or directory
UNRESOLVED: g++.dg/abi/rtti1.C: error executing dg-final: couldn't execute "c++filt": no such file or directory
WARNING: g++.dg/other/ucnid-1.C compilation failed to produce executable
XPASS: g++.dg/tree-ssa/pr14814.C scan-tree-dump-times &this 0
=== g++ Summary ===
# of expected passes 11952
# of unexpected successes 1
# of expected failures 68
# of unresolved testcases 1
# of unsupported tests 133
/usr/software/src/objdir-gcc-4.1.1-sysdisk-cc-onlyc-cpp/gcc/testsuite/g++/../../g++ version 4.1.1
=== gcc tests ===
Running target unix
WARNING: gcc.dg/ucnid-2.c compilation failed to produce executable
WARNING: gcc.dg/ucnid-3.c compilation failed to produce executable
WARNING: gcc.dg/ucnid-4.c compilation failed to produce executable
XPASS: gcc.dg/vect/pr20122.c scan-tree-dump-times vectorized 1 loops 2
XPASS: gcc.dg/vect/vect-105.c scan-tree-dump-times vectorized 1 loops 1
XPASS: gcc.dg/vect/vect-75.c scan-tree-dump-times vectorized 1 loops 1
=== gcc Summary ===
# of expected passes 37513
# of unexpected successes 3
# of expected failures 111
# of untested testcases 28
# of unsupported tests 381
/usr/software/src/objdir-gcc-4.1.1-sysdisk-cc-onlyc-cpp/gcc/xgcc version 4.1.1
=== libstdc++ tests ===
Running target unix
XPASS: 27_io/basic_istream/extractors_arithmetic/char/12.cc execution test
XPASS: 27_io/basic_istream/extractors_arithmetic/wchar_t/12.cc execution test
=== libstdc++ Summary ===
# of expected passes 3398
# of unexpected successes 2
# of expected failures 12
# of unsupported tests 321
Compiler version: 4.1.1
Platform: sparc-sun-solaris2.10
configure flags: --prefix=/usr/software --program-suffix=-4.1.1 --enable-languages=c,c++