This is the mail archive of the
gcc-testresults@gcc.gnu.org
mailing list for the GCC project.
Results for 4.2.0 20060217 (experimental) gfortran testsuite on i386-pc-linux-gnu
- From: Francois-Xavier Coudert <coudert at lcp dot u-psud dot fr>
- To: gcc-testresults at gcc dot gnu dot org
- Date: Fri, 17 Feb 2006 13:43:27 +0100
- Subject: Results for 4.2.0 20060217 (experimental) gfortran testsuite on i386-pc-linux-gnu
LAST_UPDATED:
Native configuration is i386-pc-linux-gnu
=== gfortran tests ===
Running target unix
=== gfortran Summary ===
# of expected passes11694
# of expected failures17
# of unsupported tests24
/cosmic/coudert/tmp/gfortran-20060217/ibin/gcc/testsuite/gfortran/../../gfortran version 4.2.0 20060217 (experimental)
Compiler version: 4.2.0 20060217 (experimental) gfortran
Platform: i386-pc-linux-gnu
configure flags: --prefix=/cosmic/coudert/tmp/gfortran-20060217/irun --enable-languages=c,fortran --host=i386-linux --with-gmp=/cosmic/coudert/tmp/gfortran-20060217/gfortran_libs,;t t