This is the mail archive of the
gcc-testresults@gcc.gnu.org
mailing list for the GCC project.
Results for 4.2.0 20051127 (experimental) gfortran testsuite on i386-pc-linux-gnu
- From: fx at malo dot coudert dot name (FX)
- To: gcc-testresults at gcc dot gnu dot org
- Date: Sun, 27 Nov 2005 13:49:07 +0100 (CET)
- Subject: Results for 4.2.0 20051127 (experimental) gfortran testsuite on i386-pc-linux-gnu
LAST_UPDATED:
Native configuration is i386-pc-linux-gnu
=== gfortran tests ===
Running target unix
=== gfortran Summary ===
# of expected passes10710
# of expected failures15
# of unsupported tests24
/tmp/gfortran-20051127/ibin/gcc/testsuite/../gfortran version 4.2.0 20051127 (experimental)
Compiler version: 4.2.0 20051127 (experimental) gfortran
Platform: i386-pc-linux-gnu
configure flags: --prefix=/tmp/gfortran-20051127/irun --enable-languages=c,fortran --host=i386-linux,;t t