This is the mail archive of the gcc-testresults@gcc.gnu.org mailing list for the GCC project.


Index Nav: [Date Index] [Subject Index] [Author Index] [Thread Index]
Message Nav: [Date Prev] [Date Next] [Thread Prev] [Thread Next]
Other format: [Raw text]

Results for 4.2.0 20051127 (experimental) gfortran testsuite on x86_64-unknown-linux-gnu


LAST_UPDATED: 
Native configuration is x86_64-unknown-linux-gnu

		=== gfortran tests ===


Running target unix

		=== gfortran Summary ===

# of expected passes10723
# of expected failures18
# of unsupported tests16
/var/tmp/gfortran-20051127/ibin/gcc/testsuite/../gfortran  version 4.2.0 20051127 (experimental)


Compiler version: 4.2.0 20051127 (experimental) gfortran 
Platform: x86_64-unknown-linux-gnu
configure flags: --prefix=/var/tmp/gfortran-20051127/irun --enable-languages=c,f95,;t t


Index Nav: [Date Index] [Subject Index] [Author Index] [Thread Index]
Message Nav: [Date Prev] [Date Next] [Thread Prev] [Thread Next]