This is the mail archive of the
gcc-testresults@gcc.gnu.org
mailing list for the GCC project.
Results for 4.0.1 20050424 (prerelease) testsuite onx86_64-unknown-linux-gnu
- From: Laurent GUERBY <laurent at guerby dot net>
- To: gcc-testresults at gcc dot gnu dot org
- Date: Sun, 24 Apr 2005 21:21:06 +0200
- Subject: Results for 4.0.1 20050424 (prerelease) testsuite onx86_64-unknown-linux-gnu
LAST_UPDATED: Thu Apr 21 19:29:46 UTC 2005
=== acats tests ===
=== acats Summary ===
# of expected passes 2320
# of unexpected failures 0
Native configuration is x86_64-unknown-linux-gnu
=== gcc tests ===
Running target unix
XPASS: gcc.dg/vect/vect-22.c scan-tree-dump-times vectorized 3 loops 1
=== gcc Summary ===
# of expected passes 34278
# of unexpected successes 1
# of expected failures 105
# of untested testcases 28
# of unsupported tests 429
/home/guerby/work/gcc/build/build-20050424T192005/gcc/xgcc version 4.0.1 20050424 (prerelease)
Compiler version: 4.0.1 20050424 (prerelease)
Platform: x86_64-unknown-linux-gnu
configure flags: --prefix=/home/guerby/work/gcc/install/install-20050424T192005 --enable-__cxa_atexit --disable-nls --enable-threads=posix --enable-checking --enable-languages=c,ada