This is the mail archive of the
gcc-testresults@gcc.gnu.org
mailing list for the GCC project.
Results for 4.0.0 20050418 (prerelease) testsuite on i686-pc-linux-gnu
- From: Haren Visavadia <themis_hv at yahoo dot co dot uk>
- To: gcc-testresults at gcc dot gnu dot org
- Date: Mon, 18 Apr 2005 21:15:00 +0100 (BST)
- Subject: Results for 4.0.0 20050418 (prerelease) testsuite on i686-pc-linux-gnu
cat <<'EOF' |
LAST_UPDATED: Obtained from CVS: -rgcc-4_0-branch
Native configuration is i686-pc-linux-gnu
=== g++ tests ===
Running target unix
XPASS: g++.old-deja/g++.other/init5.C execution test
=== g++ Summary ===
# of expected passes 10900
# of unexpected successes 1
# of expected failures 69
# of unsupported tests 56
/home/haren/gcc-4.0.0-20050417/obj/gcc/testsuite/../g++
version 4.0.0 20050418 (prerelease)
=== gcc tests ===
Running target unix
XPASS: gcc.dg/vect/vect-22.c scan-tree-dump-times
vectorized 3 loops 1
=== gcc Summary ===
# of expected passes 33863
# of unexpected successes 1
# of expected failures 101
# of untested testcases 28
# of unsupported tests 324
/home/haren/gcc-4.0.0-20050417/obj/gcc/xgcc version
4.0.0 20050418 (prerelease)
=== libstdc++-v3 check-abi Summary ===
# of added symbols: 48
# of missing symbols: 0
# of incompatible symbols: 0
using:
/home/haren/gcc-4.0.0-20050417/libstdc++-v3/config/abi/i486-linux-gnu/baseline_symbols.txt
=== libstdc++ tests ===
Running target unix
XPASS: 22_locale/locale/cons/12658_thread-1.cc
execution test
XPASS:
26_numerics/cmath/c99_classification_macros_c.cc (test
for excess errors)
=== libstdc++ Summary ===
# of expected passes 3620
# of unexpected successes 2
# of expected failures 12
Compiler version: 4.0.0 20050418 (prerelease)
Platform: i686-pc-linux-gnu
configure flags: --prefix=/usr --libexecdir=/usr/lib
--enable-shared --enable-clocale=gnu
--enable-threads=posix --enable-__cxa_atexit
--enable-languages=c,c++ --disable-libmudflap
Send instant messages to your online friends http://uk.messenger.yahoo.com