This is the mail archive of the gcc-testresults@gcc.gnu.org mailing list for the GCC project.
Index Nav: | [Date Index] [Subject Index] [Author Index] [Thread Index] | |
---|---|---|
Message Nav: | [Date Prev] [Date Next] | [Thread Prev] [Thread Next] |
Other format: | [Raw text] |
LAST_UPDATED: Thu Apr 14 08:24:24 UTC 2005 Native configuration is i686-pc-linux-gnu === g++ tests === Running target unix === g++ Summary === # of expected passes 10877 # of expected failures 70 # of unsupported tests 56 /scratch/gcc/nightly-2005-04-14-4.0/i686-pc-linux-gnu/build_gcc/build/gcc/testsuite/../g++ version 4.0.0 20050414 (prerelease) === gcc tests === Running target unix XPASS: gcc.dg/vect/vect-22.c scan-tree-dump-times vectorized 3 loops 1 === gcc Summary === # of expected passes 33800 # of unexpected successes 1 # of expected failures 100 # of untested testcases 28 # of unsupported tests 322 /scratch/gcc/nightly-2005-04-14-4.0/i686-pc-linux-gnu/build_gcc/build/gcc/xgcc version 4.0.0 20050414 (prerelease) === libstdc++-v3 check-abi Summary === # of added symbols: 50 # of missing symbols: 0 # of incompatible symbols: 0 using: /home/gcc/nightlies/gcc-4.0-2005-04-14/libstdc++-v3/config/abi/i486-linux-gnu/baseline_symbols.txt === libstdc++ tests === Running target unix XPASS: 22_locale/locale/cons/12658_thread-1.cc execution test XPASS: 26_numerics/cmath/c99_classification_macros_c.cc (test for excess errors) === libstdc++ Summary === # of expected passes 3620 # of unexpected successes 2 # of expected failures 12 Compiler version: 4.0.0 20050414 (prerelease) Platform: i686-pc-linux-gnu configure flags: --prefix=/home/gcc/scratch/nightly-2005-04-14-4.0/i686-pc-linux-gnu/build_gcc/install --enable-threads --disable-libmudflap --enable-languages=c,c++
Index Nav: | [Date Index] [Subject Index] [Author Index] [Thread Index] | |
---|---|---|
Message Nav: | [Date Prev] [Date Next] | [Thread Prev] [Thread Next] |