This is the mail archive of the
gcc-testresults@gcc.gnu.org
mailing list for the GCC project.
Results for 4.0.0 20050403 (prerelease) testsuite on i686-pc-linux-gnu
- From: CodeSourcery Automatic Testing System <gcc at codesourcery dot com>
- To: gcc-testresults at gcc dot gnu dot org
- Date: Sun, 3 Apr 2005 09:15:11 -0700
- Subject: Results for 4.0.0 20050403 (prerelease) testsuite on i686-pc-linux-gnu
LAST_UPDATED: Sun Apr 3 09:23:28 UTC 2005
Native configuration is i686-pc-linux-gnu
=== g++ tests ===
Running target unix
=== g++ Summary ===
# of expected passes 10840
# of expected failures 71
# of unsupported tests 56
/scratch/gcc/nightly-2005-04-03-4.0/i686-pc-linux-gnu/build_gcc/build/gcc/testsuite/../g++ version 4.0.0 20050403 (prerelease)
=== gcc tests ===
Running target unix
XPASS: gcc.dg/vect/vect-22.c scan-tree-dump-times vectorized 3 loops 1
=== gcc Summary ===
# of expected passes 33640
# of unexpected successes 1
# of expected failures 100
# of untested testcases 28
# of unsupported tests 321
/scratch/gcc/nightly-2005-04-03-4.0/i686-pc-linux-gnu/build_gcc/build/gcc/xgcc version 4.0.0 20050403 (prerelease)
=== libstdc++-v3 check-abi Summary ===
# of added symbols: 50
# of missing symbols: 0
# of incompatible symbols: 0
using: /home/gcc/nightlies/gcc-4.0-2005-04-03/libstdc++-v3/config/abi/i486-linux-gnu/baseline_symbols.txt
=== libstdc++ tests ===
Running target unix
XPASS: 22_locale/locale/cons/12658_thread-1.cc execution test
XPASS: 26_numerics/cmath/c99_classification_macros_c.cc (test for excess errors)
=== libstdc++ Summary ===
# of expected passes 3627
# of unexpected successes 2
# of expected failures 8
Compiler version: 4.0.0 20050403 (prerelease)
Platform: i686-pc-linux-gnu
configure flags: --prefix=/home/gcc/scratch/nightly-2005-04-03-4.0/i686-pc-linux-gnu/build_gcc/install --enable-threads --disable-libmudflap --enable-languages=c,c++