This is the mail archive of the
gcc-testresults@gcc.gnu.org
mailing list for the GCC project.
Re: Results for 3.1 20020513 (prerelease) testsuite on sparc-sun-solaris2.6
- From: Alexandre Oliva <aoliva at redhat dot com>
- To: gcc-testresults at gcc dot gnu dot org
- Date: 14 May 2002 15:23:13 -0300
- Subject: Re: Results for 3.1 20020513 (prerelease) testsuite on sparc-sun-solaris2.6
- Organization: GCC Team, Red Hat
- References: <200205141752.g4EHqTk04226@eufrates.dcc.unicamp.br>
On May 14, 2002, Alexandre Oliva <oliva@ic.unicamp.br> wrote:
> === g++ Summary ===
> # of expected passes 6207
> # of unexpected failures 962
Hmm... This is hosed. I'm seeing similar results on Solaris 2.5 and
7 too... Probably something wrong with yesterday's binutils CVS, with
which I'm building this snapshot of gcc. Sorry if I got anyone
scared.
--
Alexandre Oliva Enjoy Guarana', see http://www.ic.unicamp.br/~oliva/
Red Hat GCC Developer aoliva@{cygnus.com, redhat.com}
CS PhD student at IC-Unicamp oliva@{lsd.ic.unicamp.br, gnu.org}
Free Software Evangelist Professional serial bug killer