This is the mail archive of the
gcc-testresults@gcc.gnu.org
mailing list for the GCC project.
Results for gcc testsuite on i386-unknown-freebsd4.5
- From: <ljrittle at FreeBSD dot org>
- To: gcc-testresults at gcc dot gnu dot org, ljrittle at FreeBSD dot org,obrien at freebsd dot org
- Date: Tue, 16 Apr 2002 18:18:48 -0700 (PDT)
- Subject: Results for gcc testsuite on i386-unknown-freebsd4.5
Using gmake with objdir configuration on ref4 (see key)
Bootstrap failed in libjava; thus partial report
LAST_UPDATED: Tue Apr 16 03:20:53 GMT 2002
Native configuration is i386-unknown-freebsd4.5
=== gcc tests ===
Running target unix/-pthread
=== libstdc++-v3 tests ===
Running target unix/-pthread
XPASS: 22_locale/collate_members_wchar_t.cc execution test
XPASS: 22_locale/money_get_members_wchar_t.cc execution test
XPASS: 22_locale/money_put_members_wchar_t.cc execution test
XPASS: 22_locale/moneypunct_members_wchar_t.cc execution test
XPASS: 22_locale/num_get_members_wchar_t.cc execution test
XPASS: 22_locale/num_put_members_wchar_t.cc execution test
XPASS: 22_locale/numpunct_members_wchar_t.cc execution test
XPASS: 22_locale/time_get_members_wchar_t.cc execution test
XPASS: 22_locale/time_put_members_wchar_t.cc execution test
=== libstdc++-v3 Summary ===
# of expected passes 373
# of unexpected successes 9
# of expected failures 16
Compiler version: gcc
Platform: i386-unknown-freebsd4.5
configure flags: --host=i386-unknown-freebsd4.5 --prefix=/home/ljrittle/tmp-ref4/install-ref4 --with-gnu-as --with-as=/usr/bin/as --with-gnu-ld --with-ld=/usr/bin/ld
BOOT_CFLAGS=-g -O2
Key: gmake is GNU make
make is BSD make as shipped on i386-unknown-freebsd4.5
srcdir means in-source configuration was done within the gcc source tree
objdir means out-source configuration was done within a fresh directory
ref4 (3.1) and ref5 (mainline) attempt to build gcc twice daily;
once for srcdir configuration and once for objdir configuration;
odd number days use GNU make; even days use BSD make; missing
reports infer breakage; partial reports are made when bootstap
completes in gcc but fails in a support library.
beast (3.1) builds gcc once daily using gmake with objdir conf.