This is the mail archive of the
gcc-testresults@gcc.gnu.org
mailing list for the GCC project.
Results for 7.3.0 (Cavium Inc. Build 1) libgo testsuite on aarch64-unknown-linux-gnu
- From: jenkins@localhost.localdomain
- To: gcc-testresults at gcc dot gnu dot org
- Date: Wed, 31 Oct 2018 23:49:40 -0700
- Subject: Results for 7.3.0 (Cavium Inc. Build 1) libgo testsuite on aarch64-unknown-linux-gnu
Native configuration is aarch64-unknown-linux-gnu
=== libgo tests ===
Running target unix
=== libgo Summary ===
# of expected passes 145
/home/jenkins/workspace/testsuite_native_toolchain_t83_centos_sysroot/objdir/./gcc/gccgo version 7.3.0 (Cavium Inc. Build 1)
Compiler version: 7.3.0 (Cavium Inc. Build 1) libgo
Platform: aarch64-unknown-linux-gnu
configure flags: --prefix=/home/jenkins/workspace/testsuite_native_toolchain_t83_centos_sysroot/thunderx-tools/ --enable-languages=c,c++,fortran,go --disable-werror --with-sysroot=/home/jenkins/workspace/testsuite_native_toolchain_t83_centos_sysroot/thunderx-tools/aarch64-thunderx-linux-gnu/sys-root/ --enable-gnu-indirect-function --with-pkgversion='Cavium Inc. Build 1'