This is the mail archive of the
gcc-testresults@gcc.gnu.org
mailing list for the GCC project.
Results for 8.0.0 20171114 (experimental) [trunk revision 254740] (GCC) testsuite on x86_64-pc-linux-gnu
- From: Andreas Tobler <andreast dot dev at gmail dot com>
- To: <gcc-testresults at gcc dot gnu dot org>
- Date: Wed, 15 Nov 2017 06:40:52 +0100
- Subject: Results for 8.0.0 20171114 (experimental) [trunk revision 254740] (GCC) testsuite on x86_64-pc-linux-gnu
- Authentication-results: sourceware.org; auth=none
LAST_UPDATED: Tue Nov 14 21:40:46 UTC 2017 (revision 254740)
Native configuration is x86_64-pc-linux-gnu
=== gcc tests ===
=== gcc Summary ===
/export/devel/build/gcc/head/objdir/gcc/xgcc version 8.0.0 20171114 (experimental) [trunk revision 254740] (GCC)
=== gfortran tests ===
=== gfortran Summary ===
/export/devel/build/gcc/head/objdir/gcc/gfortran version 8.0.0 20171114 (experimental) [trunk revision 254740] (GCC)
=== g++ tests ===
=== g++ Summary ===
/export/devel/build/gcc/head/objdir/gcc/xg++ version 8.0.0 20171114 (experimental) [trunk revision 254740] (GCC)
=== objc tests ===
=== objc Summary ===
/export/devel/build/gcc/head/objdir/gcc/xgcc version 8.0.0 20171114 (experimental) [trunk revision 254740] (GCC)
=== libatomic tests ===
=== libatomic Summary ===
=== libgomp tests ===
=== libgomp Summary ===
=== libitm tests ===
=== libitm Summary ===
=== libstdc++ tests ===
=== libstdc++ Summary ===
Compiler version: 8.0.0 20171114 (experimental) [trunk revision 254740] (GCC)
Platform: x86_64-pc-linux-gnu
configure flags: --prefix=/export/devel/build/gcc/head/testbin