This is the mail archive of the
gcc-testresults@gcc.gnu.org
mailing list for the GCC project.
Results for 8.0.0 20170627 (experimental) [] (GCC) libstdc++ testsuite on x86_64-pc-linux-gnu
- From: jwakely dot gcc at gmail dot com(Jonathan Wakely)
- To: gcc-testresults at gcc dot gnu dot org
- Date: Wed, 28 Jun 2017 01:44:46 +0100
- Subject: Results for 8.0.0 20170627 (experimental) [] (GCC) libstdc++ testsuite on x86_64-pc-linux-gnu
- Authentication-results: sourceware.org; auth=none
Native configuration is x86_64-pc-linux-gnu
=== libstdc++ tests ===
Running target unix/-std=gnu++11
=== libstdc++ Summary for unix/-std=gnu++11 ===
# of expected passes 11620
# of expected failures 69
# of unsupported tests 567
Running target unix/-std=gnu++11/-D_GLIBCXX_USE_CXX11_ABI=0
=== libstdc++ Summary for unix/-std=gnu++11/-D_GLIBCXX_USE_CXX11_ABI=0 ===
# of expected passes 11587
# of expected failures 69
# of unsupported tests 585
Running target unix/-std=gnu++11/-m32
=== libstdc++ Summary for unix/-std=gnu++11/-m32 ===
# of expected passes 11628
# of expected failures 69
# of unsupported tests 563
Running target unix/-std=gnu++11/-m32/-D_GLIBCXX_USE_CXX11_ABI=0
=== libstdc++ Summary for unix/-std=gnu++11/-m32/-D_GLIBCXX_USE_CXX11_ABI=0 ===
# of expected passes 11595
# of expected failures 69
# of unsupported tests 581
Running target unix/-std=gnu++14
=== libstdc++ Summary for unix/-std=gnu++14 ===
# of expected passes 12209
# of expected failures 69
# of unsupported tests 248
Running target unix/-std=gnu++14/-D_GLIBCXX_USE_CXX11_ABI=0
=== libstdc++ Summary for unix/-std=gnu++14/-D_GLIBCXX_USE_CXX11_ABI=0 ===
# of expected passes 12176
# of expected failures 69
# of unsupported tests 266
Running target unix/-std=gnu++14/-m32
=== libstdc++ Summary for unix/-std=gnu++14/-m32 ===
# of expected passes 12217
# of expected failures 69
# of unsupported tests 244
Running target unix/-std=gnu++14/-m32/-D_GLIBCXX_USE_CXX11_ABI=0
=== libstdc++ Summary for unix/-std=gnu++14/-m32/-D_GLIBCXX_USE_CXX11_ABI=0 ===
# of expected passes 12184
# of expected failures 69
# of unsupported tests 262
Running target unix/-std=gnu++17
=== libstdc++ Summary for unix/-std=gnu++17 ===
# of expected passes 12162
# of expected failures 70
# of unsupported tests 260
Running target unix/-std=gnu++17/-D_GLIBCXX_USE_CXX11_ABI=0
=== libstdc++ Summary for unix/-std=gnu++17/-D_GLIBCXX_USE_CXX11_ABI=0 ===
# of expected passes 12129
# of expected failures 70
# of unsupported tests 278
Running target unix/-std=gnu++17/-m32
=== libstdc++ Summary for unix/-std=gnu++17/-m32 ===
# of expected passes 12170
# of expected failures 70
# of unsupported tests 256
Running target unix/-std=gnu++17/-m32/-D_GLIBCXX_USE_CXX11_ABI=0
=== libstdc++ Summary for unix/-std=gnu++17/-m32/-D_GLIBCXX_USE_CXX11_ABI=0 ===
# of expected passes 12137
# of expected failures 70
# of unsupported tests 274
Running target unix/-std=gnu++98
=== libstdc++ Summary for unix/-std=gnu++98 ===
# of expected passes 6561
# of expected failures 23
# of unsupported tests 3450
Running target unix/-std=gnu++98/-D_GLIBCXX_USE_CXX11_ABI=0
=== libstdc++ Summary for unix/-std=gnu++98/-D_GLIBCXX_USE_CXX11_ABI=0 ===
# of expected passes 6561
# of expected failures 23
# of unsupported tests 3450
Running target unix/-std=gnu++98/-m32
=== libstdc++ Summary for unix/-std=gnu++98/-m32 ===
# of expected passes 6561
# of expected failures 23
# of unsupported tests 3450
Running target unix/-std=gnu++98/-m32/-D_GLIBCXX_USE_CXX11_ABI=0
=== libstdc++ Summary for unix/-std=gnu++98/-m32/-D_GLIBCXX_USE_CXX11_ABI=0 ===
# of expected passes 6561
# of expected failures 23
# of unsupported tests 3450
=== libstdc++ Summary ===
# of expected passes 170058
# of expected failures 924
# of unsupported tests 18184
gcc version 8.0.0 20170627 (experimental) [] (GCC)
Compiler version: 8.0.0 20170627 (experimental) [] (GCC) libstdc++
Platform: x86_64-pc-linux-gnu
configure flags: --enable-languages=c++ --disable-bootstrap --disable-libcc1 --disable-libcilkrts --disable-libhsail-rt --disable-libmpx --disable-liboffloadmic --disable-libvtv --with-system-zlib --with-gnu-ld --with-gnu-as --without-isl