This is the mail archive of the
gcc-testresults@gcc.gnu.org
mailing list for the GCC project.
Results for 6.0.0 20150801 (experimental) [trunk revision 226464] (GCC) testsuite on i686-pc-linux-gnu
- From: "Intel Automatic Testing System [ia32 Core AVX512]" <i32corei7avx512 at ecsmtp dot ims dot intel dot com>
- To: gcc-testresults at gcc dot gnu dot org
- Date: Sun, 02 Aug 2015 02:15:42 +0400
- Subject: Results for 6.0.0 20150801 (experimental) [trunk revision 226464] (GCC) testsuite on i686-pc-linux-gnu
- Authentication-results: sourceware.org; auth=none
LAST_UPDATED: Sat Aug 1 19:40:09 UTC 2015 (revision 226464)
Native configuration is i686-pc-linux-gnu
=== gcc tests ===
Running target sde-sim
=== gcc Summary ===
# of expected passes 4851
# of expected failures 3
# of unsupported tests 539
/nightly/gcc.svn/test-intel32corei7avx512/gcc-build-trunk/bld/gcc/xgcc version 6.0.0 20150801 (experimental) [trunk revision 226464] (GCC)
=== gfortran tests ===
Running target sde-sim
=== gfortran Summary ===
/nightly/gcc.svn/test-intel32corei7avx512/gcc-build-trunk/bld/gcc/testsuite/gfortran/../../gfortran version 6.0.0 20150801 (experimental) [trunk revision 226464] (GCC)
=== g++ tests ===
Running target sde-sim
=== g++ Summary ===
/nightly/gcc.svn/test-intel32corei7avx512/gcc-build-trunk/bld/gcc/testsuite/g++/../../xg++ version 6.0.0 20150801 (experimental) [trunk revision 226464] (GCC)
=== objc tests ===
Running target sde-sim
=== objc Summary ===
/nightly/gcc.svn/test-intel32corei7avx512/gcc-build-trunk/bld/gcc/xgcc version 6.0.0 20150801 (experimental) [trunk revision 226464] (GCC)
=== boehm-gc tests ===
Running target sde-sim
=== boehm-gc Summary ===
=== libatomic tests ===
Running target sde-sim
=== libatomic Summary ===
=== libffi tests ===
Running target sde-sim
=== libffi Summary ===
=== libgomp tests ===
Running target sde-sim
=== libgomp Summary ===
=== libitm tests ===
Running target sde-sim
=== libitm Summary ===
=== libjava tests ===
Running target sde-sim
=== libjava Summary ===
=== libstdc++ tests ===
Running target sde-sim
=== libstdc++ Summary ===
Compiler version: 6.0.0 20150801 (experimental) [trunk revision 226464] (GCC)
Platform: i686-pc-linux-gnu
configure flags: --prefix=/usr/local --enable-clocale=gnu --with-system-zlib --enable-shared --with-demangler-in-ld --enable-cloog-backend=isl --with-ppl=/opt/gnu --with-cloog=/opt/gnu i686-linux --with-fpmath=sse --enable-languages=c,c++,fortran,java,lto,objc