This is the mail archive of the
gcc-testresults@gcc.gnu.org
mailing list for the GCC project.
Results for 4.9.4 20150717 (prerelease) [gcc-4_9-branch revision 225914] (GCC) testsuite on x86_64-unknown-linux-gnu
- From: hjl at gnu-34 dot sc dot intel dot com (H.J. Lu (Intel64))
- To: gcc-testresults at gcc dot gnu dot org
- Date: Thu, 16 Jul 2015 22:25:24 -0700
- Subject: Results for 4.9.4 20150717 (prerelease) [gcc-4_9-branch revision 225914] (GCC) testsuite on x86_64-unknown-linux-gnu
- Authentication-results: sourceware.org; auth=none
Native configuration is x86_64-unknown-linux-gnu
=== gcc tests ===
Running target unix
=== gcc Summary for unix ===
# of expected passes 106908
# of expected failures 254
# of unsupported tests 1416
Running target unix/-m32
=== gcc Summary for unix/-m32 ===
# of expected passes 106096
# of expected failures 251
# of unsupported tests 1212
=== gcc Summary ===
# of expected passes 213004
# of expected failures 505
# of unsupported tests 2628
/export/gnu/import/git/gcc-test/bld/gcc/xgcc version 4.9.4 20150717 (prerelease) [gcc-4_9-branch revision 225914] (GCC)
=== gfortran tests ===
Running target unix
=== gfortran Summary for unix ===
# of expected passes 46222
# of expected failures 38
# of unsupported tests 63
Running target unix/-m32
=== gfortran Summary for unix/-m32 ===
# of expected passes 45933
# of expected failures 38
# of unsupported tests 203
=== gfortran Summary ===
# of expected passes 92155
# of expected failures 76
# of unsupported tests 266
/export/gnu/import/git/gcc-test/bld/gcc/testsuite/gfortran/../../gfortran version 4.9.4 20150717 (prerelease) [gcc-4_9-branch revision 225914] (GCC)
=== g++ tests ===
Running target unix
XPASS: g++.dg/tls/thread_local-order2.C -std=c++11 execution test
XPASS: g++.dg/tls/thread_local-order2.C -std=c++1y execution test
=== g++ Summary for unix ===
# of expected passes 88865
# of unexpected successes 2
# of expected failures 443
# of unsupported tests 3080
Running target unix/-m32
XPASS: g++.dg/tls/thread_local-order2.C -std=c++11 execution test
XPASS: g++.dg/tls/thread_local-order2.C -std=c++1y execution test
=== g++ Summary for unix/-m32 ===
# of expected passes 87408
# of unexpected successes 2
# of expected failures 443
# of unsupported tests 2809
=== g++ Summary ===
# of expected passes 176273
# of unexpected successes 4
# of expected failures 886
# of unsupported tests 5889
/export/gnu/import/git/gcc-test/bld/gcc/testsuite/g++/../../xg++ version 4.9.4 20150717 (prerelease) [gcc-4_9-branch revision 225914] (GCC)
=== objc tests ===
Running target unix
=== objc Summary for unix ===
# of expected passes 2988
# of expected failures 6
# of unsupported tests 74
Running target unix/-m32
=== objc Summary for unix/-m32 ===
# of expected passes 2988
# of expected failures 6
# of unsupported tests 74
=== objc Summary ===
# of expected passes 5976
# of expected failures 12
# of unsupported tests 148
/export/gnu/import/git/gcc-test/bld/gcc/xgcc version 4.9.4 20150717 (prerelease) [gcc-4_9-branch revision 225914] (GCC)
=== boehm-gc tests ===
Running target unix/-m32
=== boehm-gc Summary for unix/-m32 ===
# of expected passes 12
# of unsupported tests 1
Running target unix
=== boehm-gc Summary for unix ===
# of expected passes 12
# of unsupported tests 1
=== boehm-gc Summary ===
# of expected passes 24
# of unsupported tests 2
=== libatomic tests ===
Running target unix/-m32
=== libatomic Summary for unix/-m32 ===
# of expected passes 44
# of unsupported tests 5
Running target unix
=== libatomic Summary for unix ===
# of expected passes 54
=== libatomic Summary ===
# of expected passes 98
# of unsupported tests 5
=== libffi tests ===
Running target unix/-m32
=== libffi Summary for unix/-m32 ===
# of expected passes 1819
# of unsupported tests 55
Running target unix
=== libffi Summary for unix ===
# of expected passes 1819
# of unsupported tests 55
=== libffi Summary ===
# of expected passes 3638
# of unsupported tests 110
=== libgomp tests ===
Running target unix/-m32
=== libgomp Summary for unix/-m32 ===
# of expected passes 3266
# of unsupported tests 35
Running target unix
=== libgomp Summary for unix ===
# of expected passes 3266
# of unsupported tests 35
=== libgomp Summary ===
# of expected passes 6532
# of unsupported tests 70
=== libitm tests ===
Running target unix/-m32
=== libitm Summary for unix/-m32 ===
# of expected passes 26
# of expected failures 3
# of unsupported tests 1
Running target unix
=== libitm Summary for unix ===
# of expected passes 26
# of expected failures 3
# of unsupported tests 1
=== libitm Summary ===
# of expected passes 52
# of expected failures 6
# of unsupported tests 2
=== libjava tests ===
Running target unix/-m32
=== libjava Summary for unix/-m32 ===
# of expected passes 2582
# of expected failures 4
Running target unix
=== libjava Summary for unix ===
# of expected passes 2582
# of expected failures 4
=== libjava Summary ===
# of expected passes 5164
# of expected failures 8
=== libstdc++ tests ===
Running target unix
=== libstdc++ Summary for unix ===
# of expected passes 10112
# of expected failures 41
# of unsupported tests 225
Running target unix/-m32
=== libstdc++ Summary for unix/-m32 ===
# of expected passes 10120
# of expected failures 41
# of unsupported tests 221
=== libstdc++ Summary ===
# of expected passes 20232
# of expected failures 82
# of unsupported tests 446
Compiler version: 4.9.4 20150717 (prerelease) [gcc-4_9-branch revision 225914] (GCC)
Platform: x86_64-unknown-linux-gnu
configure flags: --prefix=/usr/4.9.4 --enable-clocale=gnu --with-system-zlib --enable-shared --with-demangler-in-ld --with-fpmath=sse --enable-languages=c,c++,fortran,java,lto,objc