This is the mail archive of the gcc-testresults@gcc.gnu.org mailing list for the GCC project.


Index Nav: [Date Index] [Subject Index] [Author Index] [Thread Index]
Message Nav: [Date Prev] [Date Next] [Thread Prev] [Thread Next]
Other format: [Raw text]

Results for 4.7.0 (GCC) testsuite on hppa64-hp-hpux11.11


Native configuration is hppa64-hp-hpux11.11

		=== g++ tests ===


Running target unix
WARNING: program timed out.

		=== g++ Summary ===

# of expected passes		44752
# of expected failures		290
# of unsupported tests		874
/mnt/gnu/gcc/obj64dir/gcc/testsuite/g++/../../g++  version 4.7.0 (GCC) 

		=== gcc tests ===


Running target unix
WARNING: program timed out.

		=== gcc Summary ===

# of expected passes		70366
# of expected failures		119
# of unsupported tests		1501
/mnt/gnu/gcc/obj64dir/gcc/xgcc  version 4.7.0 (GCC) 

		=== gfortran tests ===


Running target unix

		=== gfortran Summary ===

# of expected passes		39499
# of expected failures		42
# of unsupported tests		375
/mnt/gnu/gcc/obj64dir/gcc/testsuite/gfortran/../../gfortran  version 4.7.0 (GCC) 

		=== obj-c++ tests ===


Running target unix

		=== obj-c++ Summary ===

# of expected passes		1442
# of expected failures		10
# of unsupported tests		86
/mnt/gnu/gcc/obj64dir/gcc/testsuite/obj-c++/../../g++  version 4.7.0 (GCC) 

		=== objc tests ===


Running target unix

		=== objc Summary ===

# of expected passes		2992
# of unsupported tests		75
/mnt/gnu/gcc/obj64dir/gcc/xgcc  version 4.7.0 (GCC) 

		=== libgomp tests ===


Running target unix

		=== libgomp Summary ===

# of expected passes		2930
# of unsupported tests		10
		=== libstdc++ tests ===


Running target unix

		=== libstdc++ Summary ===

# of expected passes		7280
# of expected failures		43
# of unsupported tests		797

Compiler version: 4.7.0 (GCC) 
Platform: hppa64-hp-hpux11.11
configure flags:Test Run By dave on Tue Apr  3 06:14:31 2012


Index Nav: [Date Index] [Subject Index] [Author Index] [Thread Index]
Message Nav: [Date Prev] [Date Next] [Thread Prev] [Thread Next]