This is the mail archive of the
gcc-testresults@gcc.gnu.org
mailing list for the GCC project.
Results for 4.8.0 20120305 (experimental) [trunk revision 184911] (GCC) testsuite on hppa64-hp-hpux11.11
- From: John David Anglin <dave at hiauly3 dot hia dot nrc dot ca>
- To: dave at hiauly3 dot hia dot nrc dot ca, gcc-testresults at gcc dot gnu dot org
- Date: Tue, 6 Mar 2012 14:13:19 -0500 (EST)
- Subject: Results for 4.8.0 20120305 (experimental) [trunk revision 184911] (GCC) testsuite on hppa64-hp-hpux11.11
Native configuration is hppa64-hp-hpux11.11
=== g++ tests ===
Running target unix
WARNING: program timed out.
=== g++ Summary ===
# of expected passes 44755
# of expected failures 290
# of unsupported tests 874
/test/gnu/gcc/objdir/gcc/testsuite/g++/../../g++ version 4.8.0 20120305 (experimental) [trunk revision 184911] (GCC)
=== gcc tests ===
Running target unix
WARNING: program timed out.
=== gcc Summary ===
# of expected passes 70362
# of expected failures 119
# of unsupported tests 1522
/test/gnu/gcc/objdir/gcc/xgcc version 4.8.0 20120305 (experimental) [trunk revision 184911] (GCC)
=== gfortran tests ===
Running target unix
=== gfortran Summary ===
# of expected passes 39800
# of expected failures 42
# of unsupported tests 375
/test/gnu/gcc/objdir/gcc/testsuite/gfortran/../../gfortran version 4.8.0 20120305 (experimental) [trunk revision 184911] (GCC)
=== obj-c++ tests ===
Running target unix
=== obj-c++ Summary ===
# of expected passes 1442
# of expected failures 10
# of unsupported tests 86
/test/gnu/gcc/objdir/gcc/testsuite/obj-c++/../../g++ version 4.8.0 20120305 (experimental) [trunk revision 184911] (GCC)
=== objc tests ===
Running target unix
=== objc Summary ===
# of expected passes 2992
# of unsupported tests 75
/test/gnu/gcc/objdir/gcc/xgcc version 4.8.0 20120305 (experimental) [trunk revision 184911] (GCC)
=== libgomp tests ===
Running target unix
=== libgomp Summary ===
# of expected passes 2930
# of unsupported tests 10
=== libstdc++ tests ===
Running target unix
=== libstdc++ Summary ===
# of expected passes 7289
# of expected failures 43
# of unsupported tests 796
Compiler version: 4.8.0 20120305 (experimental) [trunk revision 184911] (GCC)
Platform: hppa64-hp-hpux11.11
configure flags:Test Run By dave on Mon Mar 5 15:04:06 2012