This is the mail archive of the gcc-testresults@gcc.gnu.org mailing list for the GCC project.


Index Nav: [Date Index] [Subject Index] [Author Index] [Thread Index]
Message Nav: [Date Prev] [Date Next] [Thread Prev] [Thread Next]
Other format: [Raw text]

ACATS results for 20111029 (experimental) on m32r-rtems4.11


HOST: x86_64-unknown-linux-gnu
m32r-rtems4.11-gcc (GCC) 4.7.0 20111029 (experimental)

=== acats Summary ===
# of expected passes 0
# of unexpected failures 2322

a22006b - unknown reason for failure
a22006c - unknown reason for failure
a22006d - unknown reason for failure
a26007a - unknown reason for failure
a27003a - unknown reason for failure
a29003a - unknown reason for failure
a2a031a - unknown reason for failure
a33003a - unknown reason for failure
a34017c - unknown reason for failure
a35101b - unknown reason for failure
a35402a - unknown reason for failure
a35801f - unknown reason for failure
a35902c - unknown reason for failure
a38106d - unknown reason for failure
a38106e - unknown reason for failure
a49027a - unknown reason for failure
a49027b - unknown reason for failure
a49027c - unknown reason for failure
a54b01a - unknown reason for failure
a54b02a - unknown reason for failure
a55b12a - unknown reason for failure
a55b13a - unknown reason for failure
a55b14a - unknown reason for failure
a71004a - unknown reason for failure
a73001i - unknown reason for failure
a73001j - unknown reason for failure
a74105b - unknown reason for failure
a74106a - unknown reason for failure
a74106b - unknown reason for failure
a74106c - unknown reason for failure
a74205e - unknown reason for failure
a74205f - unknown reason for failure
a83009a - unknown reason for failure
a83009b - unknown reason for failure
a83a02a - unknown reason for failure
a83a02b - unknown reason for failure
a83a06a - unknown reason for failure
a83a08a - unknown reason for failure
a83c01c - unknown reason for failure
a83c01h - unknown reason for failure
a83c01i - unknown reason for failure
a85007d - unknown reason for failure
a85013b - unknown reason for failure
a87b59a - unknown reason for failure
a95001c - unknown reason for failure
a95074d - unknown reason for failure
a97106a - unknown reason for failure
a99006a - unknown reason for failure
aa2010a - unknown reason for failure
aa2012a - unknown reason for failure
ac1015b - unknown reason for failure
ac3106a - unknown reason for failure
ac3206a - unknown reason for failure
ac3207a - unknown reason for failure
ad7001b - unknown reason for failure
ad7001c - unknown reason for failure
ad7001d - unknown reason for failure
ad7006a - unknown reason for failure
ad7101a - unknown reason for failure
ad7101c - unknown reason for failure
ad7102a - unknown reason for failure
ad7103a - unknown reason for failure
ad7103c - unknown reason for failure
ad7104a - unknown reason for failure
ad7201a - unknown reason for failure
ad7203b - unknown reason for failure
ad7205b - unknown reason for failure
ad8011a - unknown reason for failure
ada101a - unknown reason for failure
ae2113a - unknown reason for failure
ae2113b - unknown reason for failure
ae3002g - unknown reason for failure
ae3101a - unknown reason for failure
ae3702a - unknown reason for failure
ae3709a - unknown reason for failure
c23001a - unknown reason for failure
c23003a - unknown reason for failure
c23003b - unknown reason for failure
c23003g - unknown reason for failure
c23003i - unknown reason for failure
c23006a - unknown reason for failure
c23006b - unknown reason for failure
c23006c - unknown reason for failure
c23006d - unknown reason for failure
c23006e - unknown reason for failure
c23006f - unknown reason for failure
c23006g - unknown reason for failure
c24002d - unknown reason for failure
c24003a - unknown reason for failure
c24003b - unknown reason for failure
c24003c - unknown reason for failure
c24106a - unknown reason for failure
c24202d - unknown reason for failure
c24203a - unknown reason for failure
c24203b - unknown reason for failure
c24207a - unknown reason for failure
c24211a - unknown reason for failure
c250001 - unknown reason for failure
c250002 - unknown reason for failure
c25001a - unknown reason for failure
c25001b - unknown reason for failure
c26006a - unknown reason for failure
c26008a - unknown reason for failure
c2a001a - unknown reason for failure
c2a001b - unknown reason for failure
c2a001c - unknown reason for failure
c2a002a - unknown reason for failure
c2a008a - unknown reason for failure
c2a021b - unknown reason for failure
c32001a - unknown reason for failure
c32001b - unknown reason for failure
c32001c - unknown reason for failure
c32001d - unknown reason for failure
c32001e - unknown reason for failure
c32107a - unknown reason for failure
c32107c - unknown reason for failure
c32108a - unknown reason for failure
c32108b - unknown reason for failure
c32111a - unknown reason for failure
c32111b - unknown reason for failure
c32112b - unknown reason for failure
c32113a - unknown reason for failure
c32115a - unknown reason for failure
c32115b - unknown reason for failure
c330001 - unknown reason for failure
c330002 - unknown reason for failure
c332001 - unknown reason for failure
c340001 - unknown reason for failure
c34001a - unknown reason for failure
c34001c - unknown reason for failure
c34001d - unknown reason for failure
c34001f - unknown reason for failure
c34002a - unknown reason for failure
c34002c - unknown reason for failure
c34003a - unknown reason for failure
c34003c - unknown reason for failure
c34004a - unknown reason for failure
c34004c - unknown reason for failure
c34005a - unknown reason for failure
c34005c - unknown reason for failure
c34005d - unknown reason for failure
c34005f - unknown reason for failure
c34005g - unknown reason for failure
c34005i - unknown reason for failure
c34005j - unknown reason for failure
c34005l - unknown reason for failure
c34005m - unknown reason for failure
c34005o - unknown reason for failure
c34005p - unknown reason for failure
c34005r - unknown reason for failure
c34005s - unknown reason for failure
c34005u - unknown reason for failure
c34005v - unknown reason for failure
c34006a - unknown reason for failure
c34006d - unknown reason for failure
c34006f - unknown reason for failure
c34006g - unknown reason for failure
c34006j - unknown reason for failure
c34006l - unknown reason for failure
c34007a - unknown reason for failure
c34007d - unknown reason for failure
c34007f - unknown reason for failure
c34007g - unknown reason for failure
c34007i - unknown reason for failure
c34007j - unknown reason for failure
c34007m - unknown reason for failure
c34007p - unknown reason for failure
c34007r - unknown reason for failure
c34007s - unknown reason for failure
c34007u - unknown reason for failure
c34007v - unknown reason for failure
c34008a - unknown reason for failure
c34009a - unknown reason for failure
c34009d - unknown reason for failure
c34009f - unknown reason for failure
c34009g - unknown reason for failure
c34009j - unknown reason for failure
c34009l - unknown reason for failure
c34011b - unknown reason for failure
c34012a - unknown reason for failure
c34014a - unknown reason for failure
c34014c - unknown reason for failure
c34014e - unknown reason for failure
c34014g - unknown reason for failure
c34014h - unknown reason for failure
c34014n - unknown reason for failure
c34014p - unknown reason for failure
c34014r - unknown reason for failure
c34014t - unknown reason for failure
c34014u - unknown reason for failure
c34018a - unknown reason for failure
c340a01 - unknown reason for failure
c340a02 - unknown reason for failure
c341a01 - unknown reason for failure
c341a02 - unknown reason for failure
c341a03 - unknown reason for failure
c341a04 - unknown reason for failure
c35003a - unknown reason for failure
c35003b - unknown reason for failure
c35003d - unknown reason for failure
c35102a - unknown reason for failure
c354002 - unknown reason for failure
c354003 - unknown reason for failure
c35502a - unknown reason for failure
c35502b - unknown reason for failure
c35502c - unknown reason for failure
c35502d - unknown reason for failure
c35502e - unknown reason for failure
c35502f - unknown reason for failure
c35502g - unknown reason for failure
c35502h - unknown reason for failure
c35502i - unknown reason for failure
c35502j - unknown reason for failure
c35502k - unknown reason for failure
c35502l - unknown reason for failure
c35502m - unknown reason for failure
c35502n - unknown reason for failure
c35502o - unknown reason for failure
c35502p - unknown reason for failure
c35503a - unknown reason for failure
c35503b - unknown reason for failure
c35503c - unknown reason for failure
c35503d - unknown reason for failure
c35503e - unknown reason for failure
c35503f - unknown reason for failure
c35503g - unknown reason for failure
c35503h - unknown reason for failure
c35503k - unknown reason for failure
c35503l - unknown reason for failure
c35503o - unknown reason for failure
c35503p - unknown reason for failure
c35504a - unknown reason for failure
c35504b - unknown reason for failure
c35505c - unknown reason for failure
c35505e - unknown reason for failure
c35505f - unknown reason for failure
c35507a - unknown reason for failure
c35507b - unknown reason for failure
c35507c - unknown reason for failure
c35507e - unknown reason for failure
c35507g - unknown reason for failure
c35507h - unknown reason for failure
c35507i - unknown reason for failure
c35507j - unknown reason for failure
c35507k - unknown reason for failure
c35507l - unknown reason for failure
c35507m - unknown reason for failure
c35507n - unknown reason for failure
c35507o - unknown reason for failure
c35507p - unknown reason for failure
c35508a - unknown reason for failure
c35508b - unknown reason for failure
c35508c - unknown reason for failure
c35508e - unknown reason for failure
c35508g - unknown reason for failure
c35508h - unknown reason for failure
c35508k - unknown reason for failure
c35508l - unknown reason for failure
c35508o - unknown reason for failure
c35508p - unknown reason for failure
c35703a - unknown reason for failure
c35704a - unknown reason for failure
c35704b - unknown reason for failure
c35704c - unknown reason for failure
c35704d - unknown reason for failure
c35801d - unknown reason for failure
c35902d - unknown reason for failure
c35904a - unknown reason for failure
c35904b - unknown reason for failure
c35a02a - unknown reason for failure
c35a05a - unknown reason for failure
c35a05d - unknown reason for failure
c35a05n - unknown reason for failure
c35a05q - unknown reason for failure
c35a07a - unknown reason for failure
c35a07d - unknown reason for failure
c35a08b - unknown reason for failure
c360002 - unknown reason for failure
c36104a - unknown reason for failure
c36104b - unknown reason for failure
c36172a - unknown reason for failure
c36172b - unknown reason for failure
c36172c - unknown reason for failure
c36174a - unknown reason for failure
c36180a - unknown reason for failure
c36202c - unknown reason for failure
c36203a - unknown reason for failure
c36204a - unknown reason for failure
c36204b - unknown reason for failure
c36204c - unknown reason for failure
c36204d - unknown reason for failure
c36205a - unknown reason for failure
c36205b - unknown reason for failure
c36205c - unknown reason for failure
c36205d - unknown reason for failure
c36205e - unknown reason for failure
c36205f - unknown reason for failure
c36205g - unknown reason for failure
c36205h - unknown reason for failure
c36205i - unknown reason for failure
c36205j - unknown reason for failure
c36205k - unknown reason for failure
c36205l - unknown reason for failure
c36301a - unknown reason for failure
c36301b - unknown reason for failure
c36302a - unknown reason for failure
c36304a - unknown reason for failure
c36305a - unknown reason for failure
c37002a - unknown reason for failure
c37003a - unknown reason for failure
c37003b - unknown reason for failure
c37005a - unknown reason for failure
c37006a - unknown reason for failure
c37008a - unknown reason for failure
c37008b - unknown reason for failure
c37009a - unknown reason for failure
c37010a - unknown reason for failure
c37010b - unknown reason for failure
c371001 - unknown reason for failure
c371002 - unknown reason for failure
c371003 - unknown reason for failure
c37102b - unknown reason for failure
c37103a - unknown reason for failure
c37105a - unknown reason for failure
c37107a - unknown reason for failure
c37108b - unknown reason for failure
c37206a - unknown reason for failure
c37207a - unknown reason for failure
c37208a - unknown reason for failure
c37208b - unknown reason for failure
c37209a - unknown reason for failure
c37209b - unknown reason for failure
c37210a - unknown reason for failure
c37211a - unknown reason for failure
c37211b - unknown reason for failure
c37211c - unknown reason for failure
c37211d - unknown reason for failure
c37211e - unknown reason for failure
c37213b - unknown reason for failure
c37213d - unknown reason for failure
c37213f - unknown reason for failure
c37213h - unknown reason for failure
c37213j - address exception
c37213k - alignment exception
c37213l - unknown reason for failure
c37215b - unknown reason for failure
c37215d - unknown reason for failure
c37215f - unknown reason for failure
c37215h - unknown reason for failure
c37217a - unknown reason for failure
c37217b - unknown reason for failure
c37217c - unknown reason for failure
c37304a - unknown reason for failure
c37305a - unknown reason for failure
c37306a - unknown reason for failure
c37309a - unknown reason for failure
c37310a - unknown reason for failure
c37312a - unknown reason for failure
c37402a - unknown reason for failure
c37403a - unknown reason for failure
c37404a - unknown reason for failure
c37404b - unknown reason for failure
c37405a - unknown reason for failure
c37411a - unknown reason for failure
c380001 - unknown reason for failure
c380002 - unknown reason for failure
c380003 - unknown reason for failure
c380004 - unknown reason for failure
c38002a - unknown reason for failure
c38002b - unknown reason for failure
c38005a - unknown reason for failure
c38005b - unknown reason for failure
c38005c - unknown reason for failure
c38006a - unknown reason for failure
c38102a - unknown reason for failure
c38102b - unknown reason for failure
c38102c - unknown reason for failure
c38102d - unknown reason for failure
c38102e - unknown reason for failure
c38104a - unknown reason for failure
c38107a - unknown reason for failure
c38107b - unknown reason for failure
c38108a - unknown reason for failure
c38108b - unknown reason for failure
c38108c - unknown reason for failure
c38108d - unknown reason for failure
c38202a - unknown reason for failure
c390001 - unknown reason for failure
c390002 - unknown reason for failure
c390003 - unknown reason for failure
c390004 - unknown reason for failure
c390005 - unknown reason for failure
c390006 - unknown reason for failure
c390007 - unknown reason for failure
c390010 - unknown reason for failure
c390011 - unknown reason for failure
c39006a - unknown reason for failure
c39006b - unknown reason for failure
c39006c - unknown reason for failure
c39006d - unknown reason for failure
c39006e - unknown reason for failure
c39006f - unknown reason for failure
c39006g - unknown reason for failure
c39007a - unknown reason for failure
c39007b - unknown reason for failure
c39008a - unknown reason for failure
c39008b - unknown reason for failure
c39008c - unknown reason for failure
c390a01 - unknown reason for failure
c390a02 - unknown reason for failure
c390a03 - unknown reason for failure
c391001 - unknown reason for failure
c391002 - unknown reason for failure
c392002 - unknown reason for failure
c392003 - unknown reason for failure
c392004 - unknown reason for failure
c392005 - unknown reason for failure
c392008 - unknown reason for failure
c392010 - unknown reason for failure
c392011 - unknown reason for failure
c392013 - unknown reason for failure
c392014 - unknown reason for failure
c392a01 - unknown reason for failure
c392c05 - unknown reason for failure
c392c07 - unknown reason for failure
c392d01 - unknown reason for failure
c392d02 - unknown reason for failure
c392d03 - unknown reason for failure
c393001 - unknown reason for failure
c393007 - unknown reason for failure
c393008 - unknown reason for failure
c393009 - unknown reason for failure
c393010 - unknown reason for failure
c393011 - unknown reason for failure
c393012 - unknown reason for failure
c393a02 - unknown reason for failure
c393a03 - unknown reason for failure
c393a05 - unknown reason for failure
c393a06 - unknown reason for failure
c393b12 - unknown reason for failure
c393b13 - unknown reason for failure
c393b14 - unknown reason for failure
c3a0001 - unknown reason for failure
c3a0002 - unknown reason for failure
c3a0003 - unknown reason for failure
c3a0004 - unknown reason for failure
c3a0005 - unknown reason for failure
c3a0006 - unknown reason for failure
c3a0007 - unknown reason for failure
c3a0008 - unknown reason for failure
c3a0009 - unknown reason for failure
c3a0010 - unknown reason for failure
c3a0011 - unknown reason for failure
c3a0012 - unknown reason for failure
c3a0013 - unknown reason for failure
c3a0014 - unknown reason for failure
c3a0015 - unknown reason for failure
c3a1001 - unknown reason for failure
c3a1002 - unknown reason for failure
c3a2001 - unknown reason for failure
c3a2002 - unknown reason for failure
c3a2003 - unknown reason for failure
c3a2a01 - unknown reason for failure
c3a2a02 - unknown reason for failure
c410001 - unknown reason for failure
c41101d - unknown reason for failure
c41103a - unknown reason for failure
c41103b - unknown reason for failure
c41104a - unknown reason for failure
c41105a - unknown reason for failure
c41107a - unknown reason for failure
c41201d - unknown reason for failure
c41203a - unknown reason for failure
c41203b - unknown reason for failure
c41204a - unknown reason for failure
c41205a - unknown reason for failure
c41206a - unknown reason for failure
c41207a - unknown reason for failure
c41301a - unknown reason for failure
c41303a - unknown reason for failure
c41303b - unknown reason for failure
c41303c - unknown reason for failure
c41303e - unknown reason for failure
c41303f - unknown reason for failure
c41303g - unknown reason for failure
c41303i - unknown reason for failure
c41303j - unknown reason for failure
c41303k - unknown reason for failure
c41303m - unknown reason for failure
c41303n - unknown reason for failure
c41303o - unknown reason for failure
c41303q - unknown reason for failure
c41303r - unknown reason for failure
c41303s - unknown reason for failure
c41303u - unknown reason for failure
c41303v - unknown reason for failure
c41303w - unknown reason for failure
c41304a - unknown reason for failure
c41304b - unknown reason for failure
c41306a - unknown reason for failure
c41306b - unknown reason for failure
c41306c - unknown reason for failure
c41307d - unknown reason for failure
c41309a - unknown reason for failure
c41320a - unknown reason for failure
c41321a - unknown reason for failure
c41322a - unknown reason for failure
c41323a - unknown reason for failure
c41324a - unknown reason for failure
c41325a - unknown reason for failure
c41326a - unknown reason for failure
c41327a - unknown reason for failure
c41328a - INCORRECT RESULTS FROM DERIVED SUBPROGRAM - 3.
c41401a - unknown reason for failure
c41402a - unknown reason for failure
c41404a - unknown reason for failure
c420001 - unknown reason for failure
c42006a - unknown reason for failure
c42007e - unknown reason for failure
c43003a - unknown reason for failure
c43004a - unknown reason for failure
c43004c - unknown reason for failure
c431001 - unknown reason for failure
c43103a - unknown reason for failure
c43103b - unknown reason for failure
c43104a - unknown reason for failure
c43105a - unknown reason for failure
c43105b - unknown reason for failure
c43106a - unknown reason for failure
c43107a - unknown reason for failure
c43108a - unknown reason for failure
c432001 - unknown reason for failure
c432002 - unknown reason for failure
c432003 - unknown reason for failure
c432004 - unknown reason for failure
c43204a - unknown reason for failure
c43204c - unknown reason for failure
c43204e - unknown reason for failure
c43204f - unknown reason for failure
c43204g - unknown reason for failure
c43204h - unknown reason for failure
c43204i - unknown reason for failure
c43205a - unknown reason for failure
c43205b - unknown reason for failure
c43205c - unknown reason for failure
c43205d - unknown reason for failure
c43205e - unknown reason for failure
c43205g - unknown reason for failure
c43205h - unknown reason for failure
c43205i - unknown reason for failure
c43205j - unknown reason for failure
c43205k - unknown reason for failure
c43206a - unknown reason for failure
c43207b - unknown reason for failure
c43207d - unknown reason for failure
c43208a - unknown reason for failure
c43208b - unknown reason for failure
c43209a - unknown reason for failure
c43210a - unknown reason for failure
c43211a - unknown reason for failure
c43212a - unknown reason for failure
c43212c - unknown reason for failure
c43214a - unknown reason for failure
c43214b - unknown reason for failure
c43214c - unknown reason for failure
c43214d - unknown reason for failure
c43214e - unknown reason for failure
c43214f - unknown reason for failure
c43215a - unknown reason for failure
c43215b - unknown reason for failure
c43222a - unknown reason for failure
c43224a - unknown reason for failure
c433001 - unknown reason for failure
c44003d - unknown reason for failure
c44003f - unknown reason for failure
c44003g - unknown reason for failure
c450001 - unknown reason for failure
c45112a - unknown reason for failure
c45112b - unknown reason for failure
c45113a - unknown reason for failure
c45114b - unknown reason for failure
c452001 - unknown reason for failure
c45201a - unknown reason for failure
c45201b - unknown reason for failure
c45202b - unknown reason for failure
c45210a - unknown reason for failure
c45211a - unknown reason for failure
c45220a - unknown reason for failure
c45220b - unknown reason for failure
c45220c - unknown reason for failure
c45220d - unknown reason for failure
c45220e - unknown reason for failure
c45220f - unknown reason for failure
c45231a - unknown reason for failure
c45231b - unknown reason for failure
c45231c - unknown reason for failure
c45231d - unknown reason for failure
c45232b - unknown reason for failure
c45242b - unknown reason for failure
c45251a - unknown reason for failure
c45252a - unknown reason for failure
c45252b - unknown reason for failure
c45253a - unknown reason for failure
c45262a - unknown reason for failure
c45262b - unknown reason for failure
c45262c - unknown reason for failure
c45262d - unknown reason for failure
c45264a - unknown reason for failure
c45264b - unknown reason for failure
c45264c - unknown reason for failure
c45265a - unknown reason for failure
c45271a - unknown reason for failure
c45272a - unknown reason for failure
c45273a - unknown reason for failure
c45274a - unknown reason for failure
c45274b - unknown reason for failure
c45274c - unknown reason for failure
c45281a - unknown reason for failure
c45282a - unknown reason for failure
c45282b - unknown reason for failure
c45291a - unknown reason for failure
c45303a - unknown reason for failure
c45304a - unknown reason for failure
c45304b - unknown reason for failure
c45304c - unknown reason for failure
c45322a - unknown reason for failure
c45323a - unknown reason for failure
c45331a - unknown reason for failure
c45342a - unknown reason for failure
c45343a - unknown reason for failure
c45344a - unknown reason for failure
c45345b - unknown reason for failure
c45347a - unknown reason for failure
c45347b - unknown reason for failure
c45347c - unknown reason for failure
c45347d - unknown reason for failure
c45411a - unknown reason for failure
c45411b - unknown reason for failure
c45411c - unknown reason for failure
c45411d - unknown reason for failure
c45413a - unknown reason for failure
c45431a - unknown reason for failure
c455001 - unknown reason for failure
c45502b - unknown reason for failure
c45502c - unknown reason for failure
c45503a - unknown reason for failure
c45503b - unknown reason for failure
c45503c - unknown reason for failure
c45504a - unknown reason for failure
c45504b - unknown reason for failure
c45504c - unknown reason for failure
c45504d - unknown reason for failure
c45504e - unknown reason for failure
c45504f - unknown reason for failure
c45505a - unknown reason for failure
c45523a - unknown reason for failure
c45531a - unknown reason for failure
c45531b - unknown reason for failure
c45531c - unknown reason for failure
c45531d - unknown reason for failure
c45531e - unknown reason for failure
c45531f - unknown reason for failure
c45531g - unknown reason for failure
c45531h - unknown reason for failure
c45531i - unknown reason for failure
c45531j - unknown reason for failure
c45531k - unknown reason for failure
c45531l - unknown reason for failure
c45531m - unknown reason for failure
c45531n - unknown reason for failure
c45531o - unknown reason for failure
c45531p - unknown reason for failure
c45532a - unknown reason for failure
c45532b - unknown reason for failure
c45532c - unknown reason for failure
c45532d - unknown reason for failure
c45532e - unknown reason for failure
c45532f - unknown reason for failure
c45532g - unknown reason for failure
c45532h - unknown reason for failure
c45532i - unknown reason for failure
c45532j - unknown reason for failure
c45532k - unknown reason for failure
c45532l - unknown reason for failure
c45532m - unknown reason for failure
c45532n - unknown reason for failure
c45532o - unknown reason for failure
c45532p - unknown reason for failure
c45534b - unknown reason for failure
c45536a - unknown reason for failure
c456001 - unknown reason for failure
c45611a - unknown reason for failure
c45611b - unknown reason for failure
c45611c - unknown reason for failure
c45613a - unknown reason for failure
c45613b - unknown reason for failure
c45613c - unknown reason for failure
c45614a - unknown reason for failure
c45614b - unknown reason for failure
c45614c - unknown reason for failure
c45622a - unknown reason for failure
c45624a - unknown reason for failure
c45624b - unknown reason for failure
c45631a - unknown reason for failure
c45631b - unknown reason for failure
c45631c - unknown reason for failure
c45632a - unknown reason for failure
c45632b - unknown reason for failure
c45632c - unknown reason for failure
c45651a - unknown reason for failure
c45662a - unknown reason for failure
c45662b - unknown reason for failure
c45672a - unknown reason for failure
c460001 - unknown reason for failure
c460002 - unknown reason for failure
c460004 - unknown reason for failure
c460005 - unknown reason for failure
c460006 - unknown reason for failure
c460007 - unknown reason for failure
c460008 - unknown reason for failure
c460009 - unknown reason for failure
c460010 - unknown reason for failure
c460011 - unknown reason for failure
c460012 - unknown reason for failure
c46011a - unknown reason for failure
c46013a - unknown reason for failure
c46014a - unknown reason for failure
c46021a - unknown reason for failure
c46024a - unknown reason for failure
c46031a - unknown reason for failure
c46032a - unknown reason for failure
c46033a - unknown reason for failure
c46041a - unknown reason for failure
c46042a - unknown reason for failure
c46043b - unknown reason for failure
c46044b - unknown reason for failure
c46051a - unknown reason for failure
c46051b - unknown reason for failure
c46051c - unknown reason for failure
c46052a - unknown reason for failure
c46053a - unknown reason for failure
c46054a - unknown reason for failure
c460a01 - unknown reason for failure
c460a02 - unknown reason for failure
c47002a - unknown reason for failure
c47002b - unknown reason for failure
c47002c - unknown reason for failure
c47002d - unknown reason for failure
c47003a - unknown reason for failure
c47004a - unknown reason for failure
c47005a - unknown reason for failure
c47006a - unknown reason for failure
c47007a - alignment exception
c47008a - unknown reason for failure
c47009a - alignment exception
c47009b - unknown reason for failure
c48004a - unknown reason for failure
c48004b - unknown reason for failure
c48004c - unknown reason for failure
c48004d - unknown reason for failure
c48004e - unknown reason for failure
c48004f - unknown reason for failure
c48005a - unknown reason for failure
c48005b - unknown reason for failure
c48006a - unknown reason for failure
c48006b - unknown reason for failure
c48007a - unknown reason for failure
c48007b - unknown reason for failure
c48007c - unknown reason for failure
c48008a - unknown reason for failure
c48008c - unknown reason for failure
c48009a - unknown reason for failure
c48009b - unknown reason for failure
c48009c - unknown reason for failure
c48009d - unknown reason for failure
c48009e - unknown reason for failure
c48009f - unknown reason for failure
c48009g - unknown reason for failure
c48009h - unknown reason for failure
c48009i - unknown reason for failure
c48009j - unknown reason for failure
c48010a - unknown reason for failure
c48011a - unknown reason for failure
c48012a - unknown reason for failure
c490001 - unknown reason for failure
c490002 - unknown reason for failure
c490003 - unknown reason for failure
c49020a - unknown reason for failure
c49021a - unknown reason for failure
c49022a - unknown reason for failure
c49022b - unknown reason for failure
c49022c - unknown reason for failure
c49023a - unknown reason for failure
c49024a - unknown reason for failure
c49025a - unknown reason for failure
c49026a - unknown reason for failure
c4a005b - unknown reason for failure
c4a006a - unknown reason for failure
c4a007a - unknown reason for failure
c4a010a - unknown reason for failure
c4a010b - unknown reason for failure
c4a011a - unknown reason for failure
c4a012b - unknown reason for failure
c4a013a - unknown reason for failure
c4a014a - unknown reason for failure
c51004a - unknown reason for failure
c52005a - unknown reason for failure
c52005b - unknown reason for failure
c52005c - unknown reason for failure
c52005d - unknown reason for failure
c52005e - unknown reason for failure
c52005f - unknown reason for failure
c52008a - unknown reason for failure
c52008b - unknown reason for failure
c52009a - unknown reason for failure
c52009b - unknown reason for failure
c52010a - unknown reason for failure
c52011a - unknown reason for failure
c52011b - unknown reason for failure
c52101a - unknown reason for failure
c52102a - unknown reason for failure
c52102b - unknown reason for failure
c52102c - unknown reason for failure
c52102d - unknown reason for failure
c52103a - unknown reason for failure
c52103b - unknown reason for failure
c52103c - unknown reason for failure
c52103f - unknown reason for failure
c52103g - unknown reason for failure
c52103h - unknown reason for failure
c52103k - unknown reason for failure
c52103l - unknown reason for failure
c52103m - unknown reason for failure
c52103p - unknown reason for failure
c52103q - unknown reason for failure
c52103r - unknown reason for failure
c52103x - unknown reason for failure
c52104a - unknown reason for failure
c52104b - unknown reason for failure
c52104c - unknown reason for failure
c52104f - unknown reason for failure
c52104g - unknown reason for failure
c52104h - unknown reason for failure
c52104k - unknown reason for failure
c52104l - unknown reason for failure
c52104m - unknown reason for failure
c52104p - unknown reason for failure
c52104q - unknown reason for failure
c52104r - unknown reason for failure
c52104x - unknown reason for failure
c52104y - unknown reason for failure
c53007a - unknown reason for failure
c540001 - unknown reason for failure
c54a03a - unknown reason for failure
c54a04a - unknown reason for failure
c54a07a - unknown reason for failure
c54a13a - unknown reason for failure
c54a13b - unknown reason for failure
c54a13c - unknown reason for failure
c54a13d - unknown reason for failure
c54a22a - unknown reason for failure
c54a23a - unknown reason for failure
c54a24a - unknown reason for failure
c54a24b - unknown reason for failure
c54a42a - unknown reason for failure
c54a42b - unknown reason for failure
c54a42c - unknown reason for failure
c54a42d - unknown reason for failure
c54a42e - unknown reason for failure
c54a42f - unknown reason for failure
c54a42g - unknown reason for failure
c55b03a - unknown reason for failure
c55b04a - unknown reason for failure
c55b05a - unknown reason for failure
c55b06a - unknown reason for failure
c55b06b - unknown reason for failure
c55b07a - unknown reason for failure
c55b07b - unknown reason for failure
c55b10a - unknown reason for failure
c55b11a - unknown reason for failure
c55b11b - unknown reason for failure
c55b15a - unknown reason for failure
c55b16a - unknown reason for failure
c55c02a - unknown reason for failure
c55c02b - unknown reason for failure
c56002a - unknown reason for failure
c57003a - unknown reason for failure
c57004a - unknown reason for failure
c57004b - unknown reason for failure
c58004c - unknown reason for failure
c58004d - unknown reason for failure
c58004g - unknown reason for failure
c58005a - unknown reason for failure
c58005b - unknown reason for failure
c58005h - unknown reason for failure
c58006a - unknown reason for failure
c58006b - unknown reason for failure
c59002a - unknown reason for failure
c59002b - unknown reason for failure
c59002c - unknown reason for failure
c61008a - unknown reason for failure
c61009a - unknown reason for failure
c61010a - unknown reason for failure
c62002a - unknown reason for failure
c62003a - unknown reason for failure
c62003b - unknown reason for failure
c62004a - unknown reason for failure
c62006a - unknown reason for failure
c631001 - unknown reason for failure
c640001 - unknown reason for failure
c64002b - unknown reason for failure
c64004g - unknown reason for failure
c64005a - unknown reason for failure
c64005b - unknown reason for failure
c64005c - WRONG ITERATIVE TRACE LENGTH.
c64005d - WRONG ITERATIVE TRACE LENGTH.
c641001 - unknown reason for failure
c64103b - unknown reason for failure
c64103c - unknown reason for failure
c64103d - unknown reason for failure
c64103e - unknown reason for failure
c64103f - unknown reason for failure
c64104a - unknown reason for failure
c64104b - unknown reason for failure
c64104c - unknown reason for failure
c64104d - unknown reason for failure
c64104e - unknown reason for failure
c64104f - unknown reason for failure
c64104g - unknown reason for failure
c64104h - unknown reason for failure
c64104i - unknown reason for failure
c64104j - unknown reason for failure
c64104k - unknown reason for failure
c64104l - unknown reason for failure
c64104m - unknown reason for failure
c64104n - unknown reason for failure
c64104o - unknown reason for failure
c64105a - unknown reason for failure
c64105b - unknown reason for failure
c64105c - unknown reason for failure
c64105d - unknown reason for failure
c64106a - unknown reason for failure
c64106b - unknown reason for failure
c64106c - unknown reason for failure
c64106d - unknown reason for failure
c64107a - unknown reason for failure
c64108a - unknown reason for failure
c64109a - unknown reason for failure
c64109b - unknown reason for failure
c64109c - unknown reason for failure
c64109d - unknown reason for failure
c64109e - unknown reason for failure
c64109f - unknown reason for failure
c64109g - unknown reason for failure
c64109h - unknown reason for failure
c64109i - unknown reason for failure
c64109j - unknown reason for failure
c64109k - unknown reason for failure
c64109l - unknown reason for failure
c64201b - unknown reason for failure
c64201c - unknown reason for failure
c64202a - unknown reason for failure
c650001 - unknown reason for failure
c65003a - unknown reason for failure
c65003b - unknown reason for failure
c66002a - unknown reason for failure
c66002c - unknown reason for failure
c66002d - unknown reason for failure
c66002e - unknown reason for failure
c66002f - unknown reason for failure
c66002g - unknown reason for failure
c67002a - unknown reason for failure
c67002b - unknown reason for failure
c67002c - unknown reason for failure
c67002d - unknown reason for failure
c67002e - unknown reason for failure
c67003f - unknown reason for failure
c67005a - unknown reason for failure
c67005b - unknown reason for failure
c67005c - unknown reason for failure
c67005d - unknown reason for failure
c72001b - unknown reason for failure
c72002a - unknown reason for failure
c730001 - unknown reason for failure
c730002 - unknown reason for failure
c730003 - unknown reason for failure
c730004 - unknown reason for failure
c73002a - unknown reason for failure
c730a01 - unknown reason for failure
c730a02 - unknown reason for failure
c731001 - unknown reason for failure
c74004a - unknown reason for failure
c74203a - unknown reason for failure
c74206a - unknown reason for failure
c74207b - unknown reason for failure
c74208a - unknown reason for failure
c74208b - unknown reason for failure
c74209a - unknown reason for failure
c74210a - unknown reason for failure
c74211a - unknown reason for failure
c74211b - unknown reason for failure
c74302a - unknown reason for failure
c74302b - unknown reason for failure
c74305a - unknown reason for failure
c74305b - unknown reason for failure
c74306a - unknown reason for failure
c74307a - unknown reason for failure
c74401d - unknown reason for failure
c74401e - unknown reason for failure
c74401k - unknown reason for failure
c74401q - unknown reason for failure
c74402a - unknown reason for failure
c74402b - unknown reason for failure
c74406a - unknown reason for failure
c74407b - unknown reason for failure
c74409b - unknown reason for failure
c760001 - unknown reason for failure
c760002 - unknown reason for failure
c760007 - unknown reason for failure
c760009 - unknown reason for failure
c760010 - unknown reason for failure
c760011 - unknown reason for failure
c760012 - unknown reason for failure
c760013 - unknown reason for failure
c761001 - unknown reason for failure
c761002 - unknown reason for failure
c761003 - unknown reason for failure
c761004 - unknown reason for failure
c761005 - unknown reason for failure
c761006 - unknown reason for failure
c761007 - unknown reason for failure
c761010 - unknown reason for failure
c761011 - unknown reason for failure
c761012 - unknown reason for failure
c83007a - unknown reason for failure
c83012d - unknown reason for failure
c83022a - unknown reason for failure
c83022g - unknown reason for failure
c83023a - unknown reason for failure
c83024a - unknown reason for failure
c83024e - unknown reason for failure
c83025a - unknown reason for failure
c83025c - unknown reason for failure
c83027a - unknown reason for failure
c83027c - unknown reason for failure
c83028a - unknown reason for failure
c83029a - unknown reason for failure
c83030a - unknown reason for failure
c83030c - unknown reason for failure
c83031a - unknown reason for failure
c83031c - unknown reason for failure
c83031e - unknown reason for failure
c83032a - unknown reason for failure
c83033a - unknown reason for failure
c83051a - unknown reason for failure
c83b02a - unknown reason for failure
c83b02b - unknown reason for failure
c83e02a - unknown reason for failure
c83e02b - unknown reason for failure
c83e03a - unknown reason for failure
c83f01a - unknown reason for failure
c83f01b - unknown reason for failure
c83f01c - unknown reason for failure
c83f01d - unknown reason for failure
c83f03a - unknown reason for failure
c83f03b - unknown reason for failure
c83f03c - unknown reason for failure
c83f03d - unknown reason for failure
c840001 - unknown reason for failure
c84002a - unknown reason for failure
c84005a - unknown reason for failure
c84008a - unknown reason for failure
c84009a - unknown reason for failure
c85004b - unknown reason for failure
c85005a - unknown reason for failure
c85005b - unknown reason for failure
c85005c - unknown reason for failure
c85005d - unknown reason for failure
c85005e - unknown reason for failure
c85005f - unknown reason for failure
c85005g - unknown reason for failure
c85006a - unknown reason for failure
c85006b - unknown reason for failure
c85006c - unknown reason for failure
c85006d - unknown reason for failure
c85006e - unknown reason for failure
c85006f - unknown reason for failure
c85006g - unknown reason for failure
c85007a - unknown reason for failure
c85007e - unknown reason for failure
c85009a - unknown reason for failure
c85011a - unknown reason for failure
c85013a - unknown reason for failure
c85014a - unknown reason for failure
c85014b - unknown reason for failure
c85014c - unknown reason for failure
c85017a - unknown reason for failure
c85018a - unknown reason for failure
c85018b - unknown reason for failure
c85019a - unknown reason for failure
c854001 - unknown reason for failure
c854002 - unknown reason for failure
c854003 - unknown reason for failure
c86003a - unknown reason for failure
c86004a - unknown reason for failure
c86004b - unknown reason for failure
c86004c - unknown reason for failure
c86006i - unknown reason for failure
c86007a - unknown reason for failure
c87a05a - unknown reason for failure
c87a05b - unknown reason for failure
c87b02a - unknown reason for failure
c87b02b - unknown reason for failure
c87b03a - unknown reason for failure
c87b04a - unknown reason for failure
c87b04b - unknown reason for failure
c87b04c - unknown reason for failure
c87b05a - unknown reason for failure
c87b06a - unknown reason for failure
c87b07a - unknown reason for failure
c87b07b - unknown reason for failure
c87b07c - unknown reason for failure
c87b07d - unknown reason for failure
c87b07e - unknown reason for failure
c87b08a - unknown reason for failure
c87b09a - unknown reason for failure
c87b09c - unknown reason for failure
c87b10a - unknown reason for failure
c87b11a - unknown reason for failure
c87b11b - unknown reason for failure
c87b13a - unknown reason for failure
c87b14a - unknown reason for failure
c87b14b - unknown reason for failure
c87b14c - unknown reason for failure
c87b14d - unknown reason for failure
c87b15a - unknown reason for failure
c87b16a - unknown reason for failure
c87b17a - unknown reason for failure
c87b18a - unknown reason for failure
c87b18b - unknown reason for failure
c87b19a - unknown reason for failure
c87b23a - unknown reason for failure
c87b24a - unknown reason for failure
c87b24b - unknown reason for failure
c87b26b - unknown reason for failure
c87b27a - unknown reason for failure
c87b28a - unknown reason for failure
c87b29a - unknown reason for failure
c87b30a - unknown reason for failure
c87b31a - unknown reason for failure
c87b32a - unknown reason for failure
c87b33a - unknown reason for failure
c87b34a - unknown reason for failure
c87b34b - unknown reason for failure
c87b34c - unknown reason for failure
c87b35c - unknown reason for failure
c87b38a - unknown reason for failure
c87b39a - unknown reason for failure
c87b40a - unknown reason for failure
c87b41a - unknown reason for failure
c87b42a - unknown reason for failure
c87b43a - unknown reason for failure
c87b44a - unknown reason for failure
c87b45a - unknown reason for failure
c87b45c - unknown reason for failure
c87b47a - unknown reason for failure
c87b48a - unknown reason for failure
c87b48b - unknown reason for failure
c87b50a - unknown reason for failure
c87b54a - unknown reason for failure
c87b57a - unknown reason for failure
c87b62a - unknown reason for failure
c87b62b - unknown reason for failure
c87b62c - unknown reason for failure
c87b62d - unknown reason for failure
c910001 - unknown reason for failure
c910002 - unknown reason for failure
c910003 - unknown reason for failure
c91004b - unknown reason for failure
c91004c - unknown reason for failure
c91006a - unknown reason for failure
c91007a - unknown reason for failure
c92002a - unknown reason for failure
c92003a - unknown reason for failure
c92005a - unknown reason for failure
c92005b - unknown reason for failure
c92006a - unknown reason for failure
c930001 - unknown reason for failure
c93001a - unknown reason for failure
c93002a - unknown reason for failure
c93003a - unknown reason for failure
c93004a - unknown reason for failure
c93004b - unknown reason for failure
c93004c - unknown reason for failure
c93004d - unknown reason for failure
c93004f - unknown reason for failure
c93005a - unknown reason for failure
c93005b - unknown reason for failure
c93005c - unknown reason for failure
c93005d - unknown reason for failure
c93005e - unknown reason for failure
c93005f - unknown reason for failure
c93005g - unknown reason for failure
c93005h - unknown reason for failure
c93006a - unknown reason for failure
c93007a - unknown reason for failure
c93008a - unknown reason for failure
c93008b - unknown reason for failure
c940001 - unknown reason for failure
c940002 - unknown reason for failure
c940004 - unknown reason for failure
c940005 - unknown reason for failure
c940006 - unknown reason for failure
c940007 - unknown reason for failure
c940010 - unknown reason for failure
c940011 - unknown reason for failure
c940012 - unknown reason for failure
c940013 - unknown reason for failure
c940014 - unknown reason for failure
c940015 - unknown reason for failure
c940016 - unknown reason for failure
c94001a - unknown reason for failure
c94001b - unknown reason for failure
c94001c - unknown reason for failure
c94001e - unknown reason for failure
c94001f - unknown reason for failure
c94001g - unknown reason for failure
c94002a - unknown reason for failure
c94002b - unknown reason for failure
c94002d - unknown reason for failure
c94002e - unknown reason for failure
c94002f - unknown reason for failure
c94002g - unknown reason for failure
c94004a - unknown reason for failure
c94004b - unknown reason for failure
c94004c - unknown reason for failure
c94005a - unknown reason for failure
c94005b - unknown reason for failure
c94006a - unknown reason for failure
c94007a - unknown reason for failure
c94007b - unknown reason for failure
c94008a - unknown reason for failure
c94008b - unknown reason for failure
c94008c - unknown reason for failure
c94008d - unknown reason for failure
c94010a - unknown reason for failure
c94011a - unknown reason for failure
c94020a - unknown reason for failure
c940a03 - unknown reason for failure
c95008a - unknown reason for failure
c95009a - unknown reason for failure
c95010a - unknown reason for failure
c95011a - unknown reason for failure
c95012a - unknown reason for failure
c95021a - unknown reason for failure
c95022a - unknown reason for failure
c95022b - unknown reason for failure
c95033a - unknown reason for failure
c95033b - unknown reason for failure
c95034a - unknown reason for failure
c95034b - unknown reason for failure
c95035a - unknown reason for failure
c95040a - unknown reason for failure
c95040b - unknown reason for failure
c95040c - unknown reason for failure
c95040d - unknown reason for failure
c95041a - unknown reason for failure
c95065a - unknown reason for failure
c95065b - unknown reason for failure
c95065c - unknown reason for failure
c95065d - unknown reason for failure
c95065e - unknown reason for failure
c95065f - unknown reason for failure
c95066a - unknown reason for failure
c95067a - unknown reason for failure
c95071a - unknown reason for failure
c95072a - unknown reason for failure
c95072b - unknown reason for failure
c95073a - unknown reason for failure
c95074c - unknown reason for failure
c95076a - unknown reason for failure
c95078a - unknown reason for failure
c95080b - unknown reason for failure
c95082g - unknown reason for failure
c95085a - unknown reason for failure
c95085b - unknown reason for failure
c95085c - unknown reason for failure
c95085d - unknown reason for failure
c95085e - unknown reason for failure
c95085f - unknown reason for failure
c95085g - unknown reason for failure
c95085h - unknown reason for failure
c95085i - unknown reason for failure
c95085j - unknown reason for failure
c95085k - unknown reason for failure
c95085l - unknown reason for failure
c95085m - unknown reason for failure
c95085n - unknown reason for failure
c95085o - unknown reason for failure
c95086a - unknown reason for failure
c95086b - unknown reason for failure
c95086c - unknown reason for failure
c95086d - unknown reason for failure
c95086e - unknown reason for failure
c95086f - unknown reason for failure
c95087a - unknown reason for failure
c95087b - unknown reason for failure
c95087c - unknown reason for failure
c95087d - unknown reason for failure
c95088a - unknown reason for failure
c95089a - unknown reason for failure
c95090a - unknown reason for failure
c95092a - unknown reason for failure
c95093a - unknown reason for failure
c95095a - unknown reason for failure
c95095b - unknown reason for failure
c95095c - unknown reason for failure
c95095d - unknown reason for failure
c95095e - unknown reason for failure
c951001 - unknown reason for failure
c951002 - unknown reason for failure
c953001 - unknown reason for failure
c953002 - ran too long, may eventually finish
c953003 - unknown reason for failure
c954001 - unknown reason for failure
c954010 - unknown reason for failure
c954011 - unknown reason for failure
c954012 - unknown reason for failure
c954013 - unknown reason for failure
c954014 - unknown reason for failure
c954015 - unknown reason for failure
c954016 - unknown reason for failure
c954017 - unknown reason for failure
c954018 - unknown reason for failure
c954019 - unknown reason for failure
c954020 - unknown reason for failure
c954021 - unknown reason for failure
c954022 - unknown reason for failure
c954023 - unknown reason for failure
c954024 - unknown reason for failure
c954025 - unknown reason for failure
c954026 - unknown reason for failure
c954a01 - unknown reason for failure
c954a02 - unknown reason for failure
c954a03 - unknown reason for failure
c960001 - unknown reason for failure
c960002 - unknown reason for failure
c960004 - unknown reason for failure
c96001a - unknown reason for failure
c96004a - unknown reason for failure
c96005a - unknown reason for failure
c96005b - unknown reason for failure
c96005d - unknown reason for failure
c96005f - unknown reason for failure
c96006a - unknown reason for failure
c96007a - unknown reason for failure
c96008a - unknown reason for failure
c96008b - unknown reason for failure
c97112a - unknown reason for failure
c97113a - unknown reason for failure
c97114a - unknown reason for failure
c97115a - unknown reason for failure
c97116a - unknown reason for failure
c97117a - unknown reason for failure
c97117b - unknown reason for failure
c97117c - unknown reason for failure
c97118a - unknown reason for failure
c97120a - unknown reason for failure
c97120b - unknown reason for failure
c97201a - unknown reason for failure
c97201b - unknown reason for failure
c97201c - unknown reason for failure
c97201d - unknown reason for failure
c97201e - unknown reason for failure
c97201g - unknown reason for failure
c97201h - unknown reason for failure
c97201x - unknown reason for failure
c97202a - unknown reason for failure
c97203a - unknown reason for failure
c97203b - unknown reason for failure
c97203c - unknown reason for failure
c97204a - unknown reason for failure
c97204b - unknown reason for failure
c97205a - unknown reason for failure
c97205b - unknown reason for failure
c97301a - unknown reason for failure
c97301b - unknown reason for failure
c97301c - unknown reason for failure
c97301d - unknown reason for failure
c97301e - unknown reason for failure
c97302a - unknown reason for failure
c97303a - unknown reason for failure
c97303b - unknown reason for failure
c97303c - unknown reason for failure
c97304a - unknown reason for failure
c97304b - unknown reason for failure
c97305a - unknown reason for failure
c97305b - unknown reason for failure
c97305c - unknown reason for failure
c97305d - unknown reason for failure
c97307a - unknown reason for failure
c974001 - unknown reason for failure
c974002 - unknown reason for failure
c974003 - unknown reason for failure
c974004 - unknown reason for failure
c974005 - unknown reason for failure
c974006 - unknown reason for failure
c974007 - unknown reason for failure
c974008 - unknown reason for failure
c974009 - unknown reason for failure
c974010 - unknown reason for failure
c974011 - unknown reason for failure
c974012 - unknown reason for failure
c974013 - unknown reason for failure
c974014 - unknown reason for failure
c980001 - unknown reason for failure
c980002 - unknown reason for failure
c980003 - unknown reason for failure
c99004a - unknown reason for failure
c99005a - unknown reason for failure
c9a003a - unknown reason for failure
c9a004a - unknown reason for failure
c9a007a - unknown reason for failure
c9a009a - unknown reason for failure
c9a009c - unknown reason for failure
c9a009f - unknown reason for failure
c9a009g - unknown reason for failure
c9a009h - unknown reason for failure
c9a010a - unknown reason for failure
c9a011a - unknown reason for failure
c9a011b - unknown reason for failure
ca1003a - unknown reason for failure
ca1004a - unknown reason for failure
ca1005a - unknown reason for failure
ca1006a - unknown reason for failure
ca1011a - unknown reason for failure
ca1012a - unknown reason for failure
ca1012b - unknown reason for failure
ca1013a - unknown reason for failure
ca1014a - unknown reason for failure
ca1020e - unknown reason for failure
ca1022a - unknown reason for failure
ca11001 - unknown reason for failure
ca11002 - unknown reason for failure
ca11003 - unknown reason for failure
ca11004 - unknown reason for failure
ca11005 - unknown reason for failure
ca11006 - unknown reason for failure
ca11007 - unknown reason for failure
ca11008 - unknown reason for failure
ca11009 - unknown reason for failure
ca11010 - unknown reason for failure
ca11011 - unknown reason for failure
ca11012 - unknown reason for failure
ca11013 - unknown reason for failure
ca11014 - unknown reason for failure
ca11015 - unknown reason for failure
ca11016 - unknown reason for failure
ca11017 - unknown reason for failure
ca11018 - unknown reason for failure
ca11019 - unknown reason for failure
ca11020 - unknown reason for failure
ca11021 - unknown reason for failure
ca11022 - unknown reason for failure
ca1102a - unknown reason for failure
ca1106a - unknown reason for failure
ca1108a - unknown reason for failure
ca1108b - unknown reason for failure
ca11a01 - unknown reason for failure
ca11a02 - unknown reason for failure
ca11b01 - unknown reason for failure
ca11b02 - unknown reason for failure
ca11c01 - unknown reason for failure
ca11c02 - unknown reason for failure
ca11c03 - unknown reason for failure
ca11d01 - unknown reason for failure
ca11d02 - unknown reason for failure
ca11d03 - unknown reason for failure
ca13001 - unknown reason for failure
ca13002 - unknown reason for failure
ca13003 - unknown reason for failure
ca13a01 - unknown reason for failure
ca13a02 - unknown reason for failure
ca14023 - unknown reason for failure
ca14028 - unknown reason for failure
ca15003 - unknown reason for failure
ca20002 - unknown reason for failure
ca2001h - unknown reason for failure
ca2002a - unknown reason for failure
ca2003a - unknown reason for failure
ca2004a - unknown reason for failure
ca2007a - unknown reason for failure
ca2008a - unknown reason for failure
ca2009a - unknown reason for failure
ca2009c - unknown reason for failure
ca2009d - unknown reason for failure
ca2009f - unknown reason for failure
ca2011b - unknown reason for failure
ca21001 - unknown reason for failure
ca3011a - unknown reason for failure
ca5003a - unknown reason for failure
ca5003b - unknown reason for failure
ca5004a - unknown reason for failure
ca5004b - unknown reason for failure
ca5006a - unknown reason for failure
cb10002 - unknown reason for failure
cb1001a - unknown reason for failure
cb1004a - unknown reason for failure
cb1005a - unknown reason for failure
cb1010a - unknown reason for failure
cb1010c - unknown reason for failure
cb1010d - unknown reason for failure
cb20001 - unknown reason for failure
cb20003 - unknown reason for failure
cb20004 - unknown reason for failure
cb20005 - unknown reason for failure
cb20006 - unknown reason for failure
cb20007 - unknown reason for failure
cb2004a - unknown reason for failure
cb2005a - unknown reason for failure
cb2006a - unknown reason for failure
cb2007a - unknown reason for failure
cb20a02 - unknown reason for failure
cb3003a - unknown reason for failure
cb3003b - unknown reason for failure
cb3004a - unknown reason for failure
cb40005 - unknown reason for failure
cb4001a - unknown reason for failure
cb4002a - unknown reason for failure
cb4003a - unknown reason for failure
cb4004a - unknown reason for failure
cb4005a - unknown reason for failure
cb4006a - unknown reason for failure
cb4007a - unknown reason for failure
cb4008a - unknown reason for failure
cb4009a - unknown reason for failure
cb4013a - unknown reason for failure
cb40a01 - unknown reason for failure
cb40a02 - unknown reason for failure
cb40a03 - unknown reason for failure
cb40a04 - unknown reason for failure
cb41001 - unknown reason for failure
cb41002 - unknown reason for failure
cb41003 - unknown reason for failure
cb41004 - unknown reason for failure
cb5001a - unknown reason for failure
cb5001b - unknown reason for failure
cb5002a - unknown reason for failure
cc1004a - unknown reason for failure
cc1005b - unknown reason for failure
cc1010a - unknown reason for failure
cc1010b - unknown reason for failure
cc1018a - unknown reason for failure
cc1104c - unknown reason for failure
cc1107b - unknown reason for failure
cc1111a - unknown reason for failure
cc1204a - unknown reason for failure
cc1207b - unknown reason for failure
cc1220a - unknown reason for failure
cc1221a - unknown reason for failure
cc1221b - unknown reason for failure
cc1221c - unknown reason for failure
cc1221d - unknown reason for failure
cc1222a - unknown reason for failure
cc1223a - unknown reason for failure
cc1224a - unknown reason for failure
cc1225a - unknown reason for failure
cc1226b - unknown reason for failure
cc1227a - unknown reason for failure
cc1301a - unknown reason for failure
cc1302a - unknown reason for failure
cc1304a - unknown reason for failure
cc1304b - unknown reason for failure
cc1307a - unknown reason for failure
cc1307b - unknown reason for failure
cc1308a - unknown reason for failure
cc1310a - unknown reason for failure
cc1311a - unknown reason for failure
cc1311b - unknown reason for failure
cc2002a - unknown reason for failure
cc30001 - unknown reason for failure
cc30002 - unknown reason for failure
cc3004a - unknown reason for failure
cc3007a - unknown reason for failure
cc3007b - unknown reason for failure
cc3011a - unknown reason for failure
cc3011d - unknown reason for failure
cc3012a - unknown reason for failure
cc3015a - unknown reason for failure
cc3016b - unknown reason for failure
cc3016c - unknown reason for failure
cc3016f - unknown reason for failure
cc3016i - unknown reason for failure
cc3017b - unknown reason for failure
cc3017c - unknown reason for failure
cc3019a - unknown reason for failure
cc3019b - unknown reason for failure
cc3019c - unknown reason for failure
cc3106b - unknown reason for failure
cc3120a - unknown reason for failure
cc3120b - unknown reason for failure
cc3121a - unknown reason for failure
cc3123a - unknown reason for failure
cc3125a - unknown reason for failure
cc3125b - unknown reason for failure
cc3125c - unknown reason for failure
cc3125d - unknown reason for failure
cc3126a - unknown reason for failure
cc3127a - unknown reason for failure
cc3128a - unknown reason for failure
cc3203a - unknown reason for failure
cc3207b - unknown reason for failure
cc3220a - unknown reason for failure
cc3221a - unknown reason for failure
cc3222a - unknown reason for failure
cc3223a - unknown reason for failure
cc3224a - unknown reason for failure
cc3225a - unknown reason for failure
cc3230a - unknown reason for failure
cc3231a - unknown reason for failure
cc3232a - unknown reason for failure
cc3233a - unknown reason for failure
cc3234a - unknown reason for failure
cc3235a - unknown reason for failure
cc3236a - unknown reason for failure
cc3240a - unknown reason for failure
cc3305a - unknown reason for failure
cc3305b - unknown reason for failure
cc3305c - unknown reason for failure
cc3305d - unknown reason for failure
cc3601a - unknown reason for failure
cc3601c - unknown reason for failure
cc3602a - unknown reason for failure
cc3603a - unknown reason for failure
cc3605a - unknown reason for failure
cc3606a - unknown reason for failure
cc3606b - unknown reason for failure
cc3607b - unknown reason for failure
cc40001 - unknown reason for failure
cc50001 - unknown reason for failure
cc50a01 - unknown reason for failure
cc50a02 - unknown reason for failure
cc51001 - unknown reason for failure
cc51002 - unknown reason for failure
cc51003 - unknown reason for failure
cc51004 - unknown reason for failure
cc51006 - unknown reason for failure
cc51007 - unknown reason for failure
cc51008 - unknown reason for failure
cc51a01 - unknown reason for failure
cc51b03 - unknown reason for failure
cc51d01 - unknown reason for failure
cc51d02 - unknown reason for failure
cc54001 - unknown reason for failure
cc54002 - unknown reason for failure
cc54003 - unknown reason for failure
cc54004 - unknown reason for failure
cc70001 - unknown reason for failure
cc70002 - unknown reason for failure
cc70003 - unknown reason for failure
cc70a01 - unknown reason for failure
cc70a02 - unknown reason for failure
cc70b01 - unknown reason for failure
cc70b02 - unknown reason for failure
cc70c01 - unknown reason for failure
cc70c02 - unknown reason for failure
cd10001 - unknown reason for failure
cd10002 - unknown reason for failure
cd1009a - unknown reason for failure
cd1009b - unknown reason for failure
cd1009d - unknown reason for failure
cd1009e - unknown reason for failure
cd1009f - unknown reason for failure
cd1009g - unknown reason for failure
cd1009h - unknown reason for failure
cd1009i - unknown reason for failure
cd1009j - unknown reason for failure
cd1009k - unknown reason for failure
cd1009l - unknown reason for failure
cd1009m - unknown reason for failure
cd1009n - unknown reason for failure
cd1009o - unknown reason for failure
cd1009p - unknown reason for failure
cd1009q - unknown reason for failure
cd1009r - unknown reason for failure
cd1009s - unknown reason for failure
cd1009t - unknown reason for failure
cd1009u - unknown reason for failure
cd1009v - unknown reason for failure
cd1009w - unknown reason for failure
cd1009x - unknown reason for failure
cd1009y - unknown reason for failure
cd1009z - unknown reason for failure
cd1c03a - unknown reason for failure
cd1c03b - unknown reason for failure
cd1c03c - unknown reason for failure
cd1c03e - unknown reason for failure
cd1c03f - unknown reason for failure
cd1c03g - unknown reason for failure
cd1c03h - unknown reason for failure
cd1c03i - unknown reason for failure
cd1c04a - unknown reason for failure
cd1c04d - unknown reason for failure
cd1c04e - unknown reason for failure
cd1c06a - unknown reason for failure
cd20001 - unknown reason for failure
cd2a21a - unknown reason for failure
cd2a21c - unknown reason for failure
cd2a21e - unknown reason for failure
cd2a22a - unknown reason for failure
cd2a22e - unknown reason for failure
cd2a22i - unknown reason for failure
cd2a22j - unknown reason for failure
cd2a23a - unknown reason for failure
cd2a23e - unknown reason for failure
cd2a24a - unknown reason for failure
cd2a24e - unknown reason for failure
cd2a24i - unknown reason for failure
cd2a24j - unknown reason for failure
cd2a31a - unknown reason for failure
cd2a31c - unknown reason for failure
cd2a31e - unknown reason for failure
cd2a32a - unknown reason for failure
cd2a32c - unknown reason for failure
cd2a32e - unknown reason for failure
cd2a32g - unknown reason for failure
cd2a32i - unknown reason for failure
cd2a32j - unknown reason for failure
cd2a51a - unknown reason for failure
cd2a53a - unknown reason for failure
cd2a53e - unknown reason for failure
cd2a83c - unknown reason for failure
cd2a91c - unknown reason for failure
cd2b11a - unknown reason for failure
cd2b11b - unknown reason for failure
cd2b11d - unknown reason for failure
cd2b11e - unknown reason for failure
cd2b11f - unknown reason for failure
cd2b15c - unknown reason for failure
cd2b16a - unknown reason for failure
cd2c11a - unknown reason for failure
cd2c11d - unknown reason for failure
cd2d11a - unknown reason for failure
cd2d13a - unknown reason for failure
cd30001 - unknown reason for failure
cd30002 - unknown reason for failure
cd30003 - unknown reason for failure
cd30004 - unknown reason for failure
cd30005 - unknown reason for failure
cd3014a - unknown reason for failure
cd3014c - unknown reason for failure
cd3014d - unknown reason for failure
cd3014f - unknown reason for failure
cd3015a - unknown reason for failure
cd3015c - unknown reason for failure
cd3015e - unknown reason for failure
cd3015f - unknown reason for failure
cd3015g - unknown reason for failure
cd3015h - unknown reason for failure
cd3015i - unknown reason for failure
cd3015k - unknown reason for failure
cd3021a - unknown reason for failure
cd33001 - unknown reason for failure
cd33002 - unknown reason for failure
cd40001 - unknown reason for failure
cd4031a - unknown reason for failure
cd4041a - unknown reason for failure
cd4051a - unknown reason for failure
cd4051b - unknown reason for failure
cd4051c - unknown reason for failure
cd4051d - unknown reason for failure
cd5003a - unknown reason for failure
cd5003b - unknown reason for failure
cd5003c - unknown reason for failure
cd5003d - unknown reason for failure
cd5003e - unknown reason for failure
cd5003f - unknown reason for failure
cd5003g - unknown reason for failure
cd5003h - unknown reason for failure
cd5003i - unknown reason for failure
cd5011a - unknown reason for failure
cd5011c - unknown reason for failure
cd5011e - unknown reason for failure
cd5011g - unknown reason for failure
cd5011i - unknown reason for failure
cd5011k - unknown reason for failure
cd5011m - unknown reason for failure
cd5011q - unknown reason for failure
cd5011s - unknown reason for failure
cd5012a - unknown reason for failure
cd5012b - unknown reason for failure
cd5012e - unknown reason for failure
cd5012f - unknown reason for failure
cd5012i - unknown reason for failure
cd5012m - unknown reason for failure
cd5013a - unknown reason for failure
cd5013c - unknown reason for failure
cd5013e - unknown reason for failure
cd5013g - unknown reason for failure
cd5013i - unknown reason for failure
cd5013k - unknown reason for failure
cd5013m - unknown reason for failure
cd5013o - unknown reason for failure
cd5014a - unknown reason for failure
cd5014c - unknown reason for failure
cd5014e - unknown reason for failure
cd5014g - unknown reason for failure
cd5014i - unknown reason for failure
cd5014k - unknown reason for failure
cd5014m - unknown reason for failure
cd5014o - unknown reason for failure
cd5014t - unknown reason for failure
cd5014v - unknown reason for failure
cd5014x - unknown reason for failure
cd5014y - unknown reason for failure
cd5014z - unknown reason for failure
cd70001 - unknown reason for failure
cd7002a - unknown reason for failure
cd7007b - unknown reason for failure
cd7101d - unknown reason for failure
cd7101e - unknown reason for failure
cd7101f - unknown reason for failure
cd7101g - unknown reason for failure
cd7103d - unknown reason for failure
cd7202a - unknown reason for failure
cd7204b - unknown reason for failure
cd7204c - unknown reason for failure
cd72a01 - unknown reason for failure
cd72a02 - unknown reason for failure
cd7305a - unknown reason for failure
cd90001 - unknown reason for failure
cd92001 - unknown reason for failure
cda201a - unknown reason for failure
cda201b - unknown reason for failure
cda201c - unknown reason for failure
cda201e - unknown reason for failure
cdb0a01 - unknown reason for failure
cdb0a02 - unknown reason for failure
cdd1001 - unknown reason for failure
cdd2001 - unknown reason for failure
cdd2a01 - unknown reason for failure
cdd2a02 - unknown reason for failure
cdd2a03 - unknown reason for failure
cde0001 - unknown reason for failure
ce2102a - unknown reason for failure
ce2102b - unknown reason for failure
ce2102c - unknown reason for failure
ce2102d - unknown reason for failure
ce2102e - unknown reason for failure
ce2102f - unknown reason for failure
ce2102g - unknown reason for failure
ce2102h - unknown reason for failure
ce2102i - unknown reason for failure
ce2102j - unknown reason for failure
ce2102k - unknown reason for failure
ce2102l - unknown reason for failure
ce2102m - unknown reason for failure
ce2102n - unknown reason for failure
ce2102o - unknown reason for failure
ce2102p - unknown reason for failure
ce2102q - unknown reason for failure
ce2102r - unknown reason for failure
ce2102s - unknown reason for failure
ce2102t - unknown reason for failure
ce2102u - unknown reason for failure
ce2102v - unknown reason for failure
ce2102w - unknown reason for failure
ce2102x - unknown reason for failure
ce2102y - unknown reason for failure
ce2103a - unknown reason for failure
ce2103b - unknown reason for failure
ce2103c - unknown reason for failure
ce2103d - unknown reason for failure
ce2104a - unknown reason for failure
ce2104b - unknown reason for failure
ce2104c - unknown reason for failure
ce2104d - unknown reason for failure
ce2106a - unknown reason for failure
ce2106b - unknown reason for failure
ce2108e - unknown reason for failure
ce2108f - simulator does not have persistent files
ce2108g - unknown reason for failure
ce2108h - simulator does not have persistent files
ce2109a - unknown reason for failure
ce2109b - unknown reason for failure
ce2109c - unknown reason for failure
ce2110a - unknown reason for failure
ce2110c - unknown reason for failure
ce2111a - unknown reason for failure
ce2111b - unknown reason for failure
ce2111c - unknown reason for failure
ce2111e - unknown reason for failure
ce2111f - unknown reason for failure
ce2111g - unknown reason for failure
ce2111i - unknown reason for failure
ce2201a - unknown reason for failure
ce2201b - unknown reason for failure
ce2201c - unknown reason for failure
ce2201d - unknown reason for failure
ce2201e - unknown reason for failure
ce2201f - unknown reason for failure
ce2201g - unknown reason for failure
ce2201h - unknown reason for failure
ce2201i - unknown reason for failure
ce2201j - unknown reason for failure
ce2201k - unknown reason for failure
ce2201l - unknown reason for failure
ce2201m - unknown reason for failure
ce2201n - unknown reason for failure
ce2202a - unknown reason for failure
ce2203a - unknown reason for failure
ce2204a - unknown reason for failure
ce2204b - unknown reason for failure
ce2204c - unknown reason for failure
ce2204d - unknown reason for failure
ce2205a - unknown reason for failure
ce2206a - unknown reason for failure
ce2208b - unknown reason for failure
ce2401a - unknown reason for failure
ce2401b - unknown reason for failure
ce2401c - unknown reason for failure
ce2401e - unknown reason for failure
ce2401f - unknown reason for failure
ce2401h - unknown reason for failure
ce2401i - unknown reason for failure
ce2401j - unknown reason for failure
ce2401k - unknown reason for failure
ce2401l - unknown reason for failure
ce2402a - unknown reason for failure
ce2403a - unknown reason for failure
ce2404a - unknown reason for failure
ce2404b - unknown reason for failure
ce2405b - unknown reason for failure
ce2406a - unknown reason for failure
ce2407a - unknown reason for failure
ce2407b - unknown reason for failure
ce2408a - unknown reason for failure
ce2408b - unknown reason for failure
ce2409a - unknown reason for failure
ce2409b - unknown reason for failure
ce2410a - unknown reason for failure
ce2410b - unknown reason for failure
ce2411a - unknown reason for failure
ce3002b - unknown reason for failure
ce3002c - unknown reason for failure
ce3002d - unknown reason for failure
ce3002f - unknown reason for failure
ce3102a - unknown reason for failure
ce3102b - unknown reason for failure
ce3102d - unknown reason for failure
ce3102e - unknown reason for failure
ce3102f - unknown reason for failure
ce3102g - unknown reason for failure
ce3102h - unknown reason for failure
ce3102i - unknown reason for failure
ce3102j - unknown reason for failure
ce3102k - unknown reason for failure
ce3103a - unknown reason for failure
ce3104a - unknown reason for failure
ce3104b - unknown reason for failure
ce3104c - unknown reason for failure
ce3106a - unknown reason for failure
ce3106b - unknown reason for failure
ce3107a - unknown reason for failure
ce3107b - unknown reason for failure
ce3108a - unknown reason for failure
ce3108b - unknown reason for failure
ce3110a - unknown reason for failure
ce3112c - unknown reason for failure
ce3112d - simulator does not have persistent files
ce3114a - unknown reason for failure
ce3115a - unknown reason for failure
ce3201a - unknown reason for failure
ce3202a - unknown reason for failure
ce3206a - unknown reason for failure
ce3207a - unknown reason for failure
ce3301a - unknown reason for failure
ce3302a - unknown reason for failure
ce3303a - unknown reason for failure
ce3304a - unknown reason for failure
ce3305a - unknown reason for failure
ce3306a - unknown reason for failure
ce3401a - unknown reason for failure
ce3402a - unknown reason for failure
ce3402c - unknown reason for failure
ce3402d - unknown reason for failure
ce3402e - unknown reason for failure
ce3403a - unknown reason for failure
ce3403b - unknown reason for failure
ce3403c - unknown reason for failure
ce3403d - unknown reason for failure
ce3403e - unknown reason for failure
ce3403f - unknown reason for failure
ce3404a - unknown reason for failure
ce3404b - unknown reason for failure
ce3404c - unknown reason for failure
ce3404d - unknown reason for failure
ce3405a - unknown reason for failure
ce3405c - unknown reason for failure
ce3405d - unknown reason for failure
ce3406a - unknown reason for failure
ce3406b - unknown reason for failure
ce3406c - unknown reason for failure
ce3406d - unknown reason for failure
ce3407a - unknown reason for failure
ce3407b - unknown reason for failure
ce3407c - unknown reason for failure
ce3408a - unknown reason for failure
ce3408b - unknown reason for failure
ce3408c - unknown reason for failure
ce3409a - unknown reason for failure
ce3409b - unknown reason for failure
ce3409c - unknown reason for failure
ce3409d - unknown reason for failure
ce3409e - unknown reason for failure
ce3410a - unknown reason for failure
ce3410b - unknown reason for failure
ce3410c - unknown reason for failure
ce3410d - unknown reason for failure
ce3410e - unknown reason for failure
ce3411a - unknown reason for failure
ce3411c - unknown reason for failure
ce3412a - unknown reason for failure
ce3413a - unknown reason for failure
ce3413b - unknown reason for failure
ce3413c - unknown reason for failure
ce3414a - unknown reason for failure
ce3601a - unknown reason for failure
ce3602a - unknown reason for failure
ce3602b - unknown reason for failure
ce3602c - unknown reason for failure
ce3602d - unknown reason for failure
ce3603a - unknown reason for failure
ce3604a - unknown reason for failure
ce3604b - unknown reason for failure
ce3605a - unknown reason for failure
ce3605b - unknown reason for failure
ce3605c - unknown reason for failure
ce3605d - unknown reason for failure
ce3605e - unknown reason for failure
ce3606a - unknown reason for failure
ce3606b - unknown reason for failure
ce3701a - unknown reason for failure
ce3704a - unknown reason for failure
ce3704b - unknown reason for failure
ce3704c - unknown reason for failure
ce3704d - unknown reason for failure
ce3704e - unknown reason for failure
ce3704f - unknown reason for failure
ce3704m - unknown reason for failure
ce3704n - unknown reason for failure
ce3704o - unknown reason for failure
ce3705a - unknown reason for failure
ce3705b - unknown reason for failure
ce3705c - unknown reason for failure
ce3705d - unknown reason for failure
ce3705e - unknown reason for failure
ce3706c - unknown reason for failure
ce3706d - unknown reason for failure
ce3706f - unknown reason for failure
ce3706g - unknown reason for failure
ce3707a - unknown reason for failure
ce3708a - unknown reason for failure
ce3801a - unknown reason for failure
ce3801b - unknown reason for failure
ce3804a - unknown reason for failure
ce3804b - unknown reason for failure
ce3804c - unknown reason for failure
ce3804d - unknown reason for failure
ce3804e - unknown reason for failure
ce3804f - unknown reason for failure
ce3804g - unknown reason for failure
ce3804h - unknown reason for failure
ce3804i - unknown reason for failure
ce3804j - unknown reason for failure
ce3804m - unknown reason for failure
ce3804o - unknown reason for failure
ce3804p - unknown reason for failure
ce3805a - unknown reason for failure
ce3805b - unknown reason for failure
ce3806a - unknown reason for failure
ce3806b - unknown reason for failure
ce3806c - unknown reason for failure
ce3806d - unknown reason for failure
ce3806e - unknown reason for failure
ce3806f - unknown reason for failure
ce3806g - unknown reason for failure
ce3806h - unknown reason for failure
ce3809a - unknown reason for failure
ce3809b - unknown reason for failure
ce3810a - unknown reason for failure
ce3810b - unknown reason for failure
ce3815a - unknown reason for failure
ce3901a - unknown reason for failure
ce3902b - unknown reason for failure
ce3904a - unknown reason for failure
ce3904b - unknown reason for failure
ce3905a - unknown reason for failure
ce3905b - unknown reason for failure
ce3905c - unknown reason for failure
ce3905l - unknown reason for failure
ce3906a - unknown reason for failure
ce3906b - unknown reason for failure
ce3906c - unknown reason for failure
ce3906d - unknown reason for failure
ce3906e - unknown reason for failure
ce3906f - unknown reason for failure
ce3907a - unknown reason for failure
ce3908a - unknown reason for failure
cxa3001 - unknown reason for failure
cxa3002 - unknown reason for failure
cxa3003 - unknown reason for failure
cxa4001 - unknown reason for failure
cxa4002 - unknown reason for failure
cxa4003 - unknown reason for failure
cxa4004 - unknown reason for failure
cxa4005 - unknown reason for failure
cxa4006 - unknown reason for failure
cxa4007 - unknown reason for failure
cxa4008 - unknown reason for failure
cxa4009 - unknown reason for failure
cxa4010 - unknown reason for failure
cxa4011 - unknown reason for failure
cxa4012 - unknown reason for failure
cxa4013 - unknown reason for failure
cxa4014 - unknown reason for failure
cxa4015 - unknown reason for failure
cxa4016 - unknown reason for failure
cxa4017 - unknown reason for failure
cxa4018 - unknown reason for failure
cxa4019 - unknown reason for failure
cxa4020 - unknown reason for failure
cxa4021 - unknown reason for failure
cxa4022 - unknown reason for failure
cxa4023 - unknown reason for failure
cxa4024 - unknown reason for failure
cxa4025 - unknown reason for failure
cxa4026 - unknown reason for failure
cxa4027 - unknown reason for failure
cxa4028 - unknown reason for failure
cxa4029 - unknown reason for failure
cxa4030 - unknown reason for failure
cxa4031 - unknown reason for failure
cxa4032 - unknown reason for failure
cxa4033 - unknown reason for failure
cxa4034 - unknown reason for failure
cxa5011 - unknown reason for failure
cxa5012 - unknown reason for failure
cxa5015 - unknown reason for failure
cxa5a01 - unknown reason for failure
cxa5a02 - unknown reason for failure
cxa5a03 - unknown reason for failure
cxa5a04 - unknown reason for failure
cxa5a05 - unknown reason for failure
cxa5a06 - unknown reason for failure
cxa5a07 - unknown reason for failure
cxa5a08 - unknown reason for failure
cxa5a09 - unknown reason for failure
cxa5a10 - unknown reason for failure
cxa8001 - unknown reason for failure
cxa8002 - unknown reason for failure
cxa8003 - unknown reason for failure
cxa9001 - unknown reason for failure
cxa9002 - unknown reason for failure
cxaa001 - unknown reason for failure
cxaa002 - unknown reason for failure
cxaa003 - unknown reason for failure
cxaa004 - unknown reason for failure
cxaa005 - unknown reason for failure
cxaa006 - unknown reason for failure
cxaa007 - unknown reason for failure
cxaa008 - unknown reason for failure
cxaa009 - unknown reason for failure
cxaa010 - unknown reason for failure
cxaa011 - unknown reason for failure
cxaa012 - unknown reason for failure
cxaa013 - unknown reason for failure
cxaa014 - unknown reason for failure
cxaa015 - unknown reason for failure
cxaa016 - unknown reason for failure
cxaa017 - unknown reason for failure
cxaa018 - unknown reason for failure
cxaa019 - unknown reason for failure
cxab001 - unknown reason for failure
cxac001 - unknown reason for failure
cxac002 - unknown reason for failure
cxac003 - unknown reason for failure
cxac004 - unknown reason for failure
cxac005 - unknown reason for failure
cxaca01 - unknown reason for failure
cxaca02 - unknown reason for failure
cxacb01 - unknown reason for failure
cxacb02 - unknown reason for failure
cxacc01 - unknown reason for failure
cxaf001 - unknown reason for failure
cxb2001 - unknown reason for failure
cxb2002 - unknown reason for failure
cxb2003 - unknown reason for failure
cxb3001 - unknown reason for failure
cxb3002 - unknown reason for failure
cxb3003 - unknown reason for failure
cxb3004 - unknown reason for failure
cxb3005 - unknown reason for failure
cxb3007 - unknown reason for failure
cxb3008 - unknown reason for failure
cxb3009 - unknown reason for failure
cxb3010 - unknown reason for failure
cxb3011 - unknown reason for failure
cxb3012 - unknown reason for failure
cxb3013 - unknown reason for failure
cxb3014 - unknown reason for failure
cxb3015 - unknown reason for failure
cxb3016 - unknown reason for failure
cxb4001 - unknown reason for failure
cxb4002 - unknown reason for failure
cxb4003 - unknown reason for failure
cxb4004 - unknown reason for failure
cxb4005 - unknown reason for failure
cxb4006 - unknown reason for failure
cxb4007 - unknown reason for failure
cxb4008 - unknown reason for failure
cxb5001 - unknown reason for failure
cxb5002 - unknown reason for failure
cxb5003 - unknown reason for failure
cxf1001 - unknown reason for failure
cxf2001 - unknown reason for failure
cxf2002 - unknown reason for failure
cxf2003 - unknown reason for failure
cxf2004 - unknown reason for failure
cxf2005 - unknown reason for failure
cxf2a01 - unknown reason for failure
cxf2a02 - unknown reason for failure
cxf3001 - unknown reason for failure
cxf3002 - unknown reason for failure
cxf3003 - unknown reason for failure
cxf3004 - unknown reason for failure
cxf3a01 - unknown reason for failure
cxf3a02 - unknown reason for failure
cxf3a03 - unknown reason for failure
cxf3a04 - unknown reason for failure
cxf3a05 - unknown reason for failure
cxf3a06 - unknown reason for failure
cxf3a07 - unknown reason for failure
cxf3a08 - unknown reason for failure
cxg1001 - unknown reason for failure
cxg1002 - unknown reason for failure
cxg1003 - unknown reason for failure
cxg1004 - unknown reason for failure
cxg1005 - unknown reason for failure
cxg2001 - unknown reason for failure
cxg2002 - unknown reason for failure
cxg2003 - unknown reason for failure
cxg2004 - unknown reason for failure
cxg2005 - FP exception - SIS simulator is not accurate enough
cxg2006 - unknown reason for failure
cxg2007 - unknown reason for failure
cxg2008 - unknown reason for failure
cxg2009 - unknown reason for failure
cxg2010 - unknown reason for failure
cxg2011 - unknown reason for failure
cxg2012 - FP exception - SIS simulator is not accurate enough
cxg2013 - unknown reason for failure
cxg2014 - FP exception - SIS simulator is not accurate enough
cxg2015 - unknown reason for failure
cxg2016 - unknown reason for failure
cxg2017 - FP exception - SIS simulator is not accurate enough
cxg2018 - unknown reason for failure
cxg2019 - unknown reason for failure
cxg2020 - FP exception - SIS simulator is not accurate enough
cxg2021 - unknown reason for failure
cxg2022 - unknown reason for failure
cxg2023 - unknown reason for failure
cxg2024 - unknown reason for failure
cxh1001 - unknown reason for failure
cxh3001 - unknown reason for failure
cxh3002 - unknown reason for failure
cxh3003 - unknown reason for failure
cz1101a - unknown reason for failure
cz1102a - unknown reason for failure
cz1103a - unknown reason for failure
d4a002a - unknown reason for failure
d4a002b - unknown reason for failure
d4a004a - unknown reason for failure
d4a004b - unknown reason for failure
e28002b - unknown reason for failure
e28005d - unknown reason for failure
e52103y - unknown reason for failure
eb4011a - unknown reason for failure
eb4012a - unknown reason for failure
eb4014a - unknown reason for failure
ee3203a - unknown reason for failure
ee3204a - unknown reason for failure
ee3402b - unknown reason for failure
ee3409f - unknown reason for failure
ee3412c - unknown reason for failure
templat - unknown reason for failure
la14001 - unknown reason for failure
la14002 - unknown reason for failure
la14003 - unknown reason for failure
la14004 - unknown reason for failure
la14005 - unknown reason for failure
la14006 - unknown reason for failure
la14007 - unknown reason for failure
la14008 - unknown reason for failure
la14009 - unknown reason for failure
la14010 - unknown reason for failure
la14011 - unknown reason for failure
la14012 - unknown reason for failure
la14013 - unknown reason for failure
la14014 - unknown reason for failure
la14015 - unknown reason for failure
la14016 - unknown reason for failure
la14017 - unknown reason for failure
la14018 - unknown reason for failure
la14019 - unknown reason for failure
la14020 - unknown reason for failure
la14021 - unknown reason for failure
la14022 - unknown reason for failure
la14024 - unknown reason for failure
la14025 - unknown reason for failure
la14026 - unknown reason for failure
la14027 - unknown reason for failure

======= Logs for failed tests ======


Index Nav: [Date Index] [Subject Index] [Author Index] [Thread Index]
Message Nav: [Date Prev] [Date Next] [Thread Prev] [Thread Next]