This is the mail archive of the
gcc-testresults@gcc.gnu.org
mailing list for the GCC project.
Results for 4.7.0 20110802 (experimental) [trunk revision 177217] (GCC) g++ testsuite on hppa2.0w-hp-hpux11.11
- From: John David Anglin <dave at hiauly3 dot hia dot nrc dot ca>
- To: dave at hiauly3 dot hia dot nrc dot ca, gcc-testresults at gcc dot gnu dot org
- Date: Mon, 10 Oct 2011 10:14:26 -0400 (EDT)
- Subject: Results for 4.7.0 20110802 (experimental) [trunk revision 177217] (GCC) g++ testsuite on hppa2.0w-hp-hpux11.11
Native configuration is hppa2.0w-hp-hpux11.11
=== g++ tests ===
Running target unix
WARNING: g++.dg/ext/label13.C compilation failed to produce executable
WARNING: program timed out.
=== g++ Summary ===
# of expected passes 23960
# of expected failures 158
# of unsupported tests 603
/test/gnu/gcc/objdir/gcc/testsuite/g++/../../g++ version 4.7.0 20110802 (experimental) [trunk revision 177217] (GCC)
Compiler version: 4.7.0 20110802 (experimental) [trunk revision 177217] (GCC) g++
Platform: hppa2.0w-hp-hpux11.11
configure flags:Test Run By dave on Sun Oct 9 19:04:07 2011