This is the mail archive of the
gcc-testresults@gcc.gnu.org
mailing list for the GCC project.
ACATS results for 20110615 (experimental) [trunk revision 175083] on sparc-rtems4.11
- From: Joel Sherrill <joel at rtems dot org>
- To: gcc-testresults at gcc dot gnu dot org, rtems-tooltestresults at rtems dot org
- Date: Sun, 19 Jun 2011 02:00:53 -0500
- Subject: ACATS results for 20110615 (experimental) [trunk revision 175083] on sparc-rtems4.11
HOST: x86_64-unknown-linux-gnu
sparc-rtems4.11-gcc (GCC) 4.7.0 20110615 (experimental) [trunk revision 175083]
=== acats Summary ===
# of expected passes 2295
# of unexpected failures 24
# of unsupported tests 3
ce2108f - simulator does not have persistent files
ce2108h - simulator does not have persistent files
ce3112d - simulator does not have persistent files
c34009d - unknown reason for failure
c34009f - unknown reason for failure
c34009j - unknown reason for failure
c34009l - unknown reason for failure
c380004 - unknown reason for failure
c391002 - unknown reason for failure
c52103x - unknown reason for failure
c52104x - unknown reason for failure
c52104y - unknown reason for failure
c58005h - GNAT BUG DETECTED -- follow up required
ca11c01 - unknown reason for failure
ca11c02 - unknown reason for failure
ca11c03 - unknown reason for failure
cb1010a - unknown reason for failure
cb1010c - unknown reason for failure
cb1010d - unknown reason for failure
cd1009a - unknown reason for failure
cd1009i - unknown reason for failure
cd1c03a - unknown reason for failure
cd2a21c - unknown reason for failure
cd2a24a - unknown reason for failure
cd2a32a - unknown reason for failure
cxa5012 - unknown reason for failure
templat - unknown reason for failure
======= Logs for failed tests ======