This is the mail archive of the
gcc-testresults@gcc.gnu.org
mailing list for the GCC project.
Results for 4.6.1 20110329 (prerelease) (GCC) gcc testsuite on sparc-unknown-rtems4.11
- From: Joel Sherrill <joel at rtems dot org>
- To: gcc-testresults at gcc dot gnu dot org
- Date: Wed, 11 May 2011 11:37:37 -0500
- Subject: Results for 4.6.1 20110329 (prerelease) (GCC) gcc testsuite on sparc-unknown-rtems4.11
LAST_UPDATED: Mon Apr 25 11:51:16 UTC 2011 (revision 172929)
Target is sparc-unknown-rtems4.11
Host is x86_64-unknown-linux-gnu
=== gcc tests ===
Running target rtems-sparc-sis
=== gcc Summary ===
# of expected passes 1180
/home2/joel/build/b-sparc-gcc/gcc/xgcc version 4.6.1 20110329 (prerelease) (GCC)
Compiler version: 4.6.1 20110329 (prerelease) (GCC) gcc
Platform: sparc-unknown-rtems4.11
configure flags: --with-ppl=/users/joel/test-gcc/install-4.6-branch --disable-werror --enable-threads=rtems --with-gnu-as --enable-multilib --enable-newlib-mb --enable-newlib-iconv --with-gnu-ld --with-newlib --verbose --with-system-zlib --disable-nls --enable-version-specific-runtime-libs --target=sparc-rtems4.11 --prefix=/users/joel/test-gcc/install-4.6-branch target_alias=sparc-rtems4.11 --enable-languages=c,c++,lto --no-create --no-recursion