This is the mail archive of the
gcc-testresults@gcc.gnu.org
mailing list for the GCC project.
ACATS results for 20110329 (prerelease) on sparc-rtems4.11
- From: Joel Sherrill <joel at rtems dot org>
- To: gcc-testresults at gcc dot gnu dot org, rtems-tooltestresults at rtems dot org
- Date: Sun, 03 Apr 2011 12:44:04 -0500
- Subject: ACATS results for 20110329 (prerelease) on sparc-rtems4.11
HOST: x86_64-unknown-linux-gnu
sparc-rtems4.11-gcc (GCC) 4.6.1 20110329 (prerelease)
=== acats Summary ===
# of expected passes 2298
# of unexpected failures 21
# of unsupported tests 3
ce2108f - simulator does not have persistent files
ce2108h - simulator does not have persistent files
ce3112d - simulator does not have persistent files
c37213j - address exception
c37213k - alignment exception
c380004 - unknown reason for failure
c47007a - alignment exception
c47009a - alignment exception
c52103x - unknown reason for failure
c52104x - unknown reason for failure
c52104y - unknown reason for failure
c761006 - unknown reason for failure
c92003a - unknown reason for failure
cb1010a - unknown reason for failure
cb1010c - unknown reason for failure
cb1010d - unknown reason for failure
cd1009a - unknown reason for failure
cd1009i - unknown reason for failure
cd1c03a - unknown reason for failure
cd2a21c - unknown reason for failure
cd2a24a - unknown reason for failure
cd2a32a - unknown reason for failure
cxa5012 - unknown reason for failure
templat - unknown reason for failure
======= Logs for failed tests ======