This is the mail archive of the
gcc-testresults@gcc.gnu.org
mailing list for the GCC project.
[PATCHED,PR30445] Results for 4.5.0 20100318 (experimental) (GCC) testsuite on i686-pc-cygwin (objc, obj-c++ only)
- From: Dave Korn <dave dot korn dot cygwin at googlemail dot com>
- To: gcc-testresults at gcc dot gnu dot org
- Date: Tue, 23 Mar 2010 05:20:23 +0000
- Subject: [PATCHED,PR30445] Results for 4.5.0 20100318 (experimental) (GCC) testsuite on i686-pc-cygwin (objc, obj-c++ only)
Revision: 157534
Native configuration is i686-pc-cygwin
=== obj-c++ tests ===
Running target unix
WARNING: obj-c++.dg/lookup-2.mm compilation failed to produce executable
WARNING: obj-c++.dg/try-catch-2.mm compilation failed to produce executable
WARNING: obj-c++.dg/try-catch-9.mm compilation failed to produce executable
=== obj-c++ Summary ===
# of expected passes 438
# of expected failures 10
# of unsupported tests 13
/gnu/gcc/obj.clean/gcc/testsuite/obj-c++/../../g++ version 4.5.0 20100318
(experimental) (GCC)
=== objc tests ===
Running target unix
=== objc Summary ===
# of expected passes 1967
# of expected failures 7
# of unsupported tests 24
/gnu/gcc/obj.clean/gcc/xgcc version 4.5.0 20100318 (experimental) (GCC)