This is the mail archive of the
gcc-testresults@gcc.gnu.org
mailing list for the GCC project.
Results for 4.5.0 20090328 (experimental) [trunk revision 145203] (GCC) testsuite on hppa-unknown-linux-gnu
- From: dave at gsyprf11 dot external dot hp dot com (John David Anglin)
- To: dave dot anglin at nrc-cnrc dot gc dot ca, gcc-testresults at gcc dot gnu dot org
- Date: Wed, 8 Apr 2009 15:56:45 -0700 (PDT)
- Subject: Results for 4.5.0 20090328 (experimental) [trunk revision 145203] (GCC) testsuite on hppa-unknown-linux-gnu
LAST_UPDATED: Wed Apr 8 00:24:25 UTC 2009 (revision 145203)
Native configuration is hppa-unknown-linux-gnu
=== gcc tests ===
Running target unix
XPASS: gcc.dg/tree-ssa/loop-1.c scan-assembler-times foo 5
=== gcc Summary ===
# of expected passes 49293
# of unexpected successes 1
# of expected failures 128
# of unsupported tests 513
/home/dave/gcc-4.5/objdir/gcc/xgcc version 4.5.0 20090328 (experimental) [trunk revision 145203] (GCC)
=== libgomp tests ===
Running target unix
=== libgomp Summary ===
# of expected passes 240
# of unsupported tests 7
=== libmudflap tests ===
Running target unix
=== libmudflap Summary ===
# of expected passes 1740
# of unsupported tests 2
Compiler version: 4.5.0 20090328 (experimental) [trunk revision 145203] (GCC)
Platform: hppa-unknown-linux-gnu
configure flags: --with-gnu-as --with-gnu-ld --enable-shared --enable-nls --prefix=/home/dave/opt/gnu/gcc/gcc-4.5.0 --with-local-prefix=/home/dave/opt/gnu --enable-threads=posix --enable-__cxa_atexit --build=hppa-linux --enable-clocale=gnu --enable-java-gc=boehm --enable-java-awt=xlib --enable-languages=c --disable-libstdcxx-pch