This is the mail archive of the gcc-testresults@gcc.gnu.org mailing list for the GCC project.


Index Nav: [Date Index] [Subject Index] [Author Index] [Thread Index]
Message Nav: [Date Prev] [Date Next] [Thread Prev] [Thread Next]
Other format: [Raw text]

ACATS results for 20090312 (experimental) [trunk revision 144825] on mips-rtems4.10


HOST: i686-pc-linux-gnu
mips-rtems4.10-gcc (GCC) 4.4.0 20090312 (experimental) [trunk revision 144825]

=== acats Summary ===
# of expected passes 2311
# of unexpected failures 1
# of unsupported tests 3

ce2108f - simulator does not have persistent files
ce2108h - simulator does not have persistent files
ce3112d - simulator does not have persistent files
c380004 - read from bad address

======= Logs for failed tests ======


Index Nav: [Date Index] [Subject Index] [Author Index] [Thread Index]
Message Nav: [Date Prev] [Date Next] [Thread Prev] [Thread Next]