This is the mail archive of the
gcc-testresults@gcc.gnu.org
mailing list for the GCC project.
ACATS results for 20090114 (experimental) [trunk revision 143398] on powerpc-rtems4.10
- From: joel at gcc12 dot fsffrance dot org
- To: gcc-testresults at gcc dot gnu dot org, rtems-tooltestresults at rtems dot org
- Date: Fri, 16 Jan 2009 02:29:27 +0100
- Subject: ACATS results for 20090114 (experimental) [trunk revision 143398] on powerpc-rtems4.10
powerpc-rtems4.10-gcc (GCC) 4.4.0 20090114 (experimental) [trunk revision 143398]
=== acats Summary ===
# of expected passes 2307
# of unexpected failures 5
# of unsupported tests 3
ce2108f - simulator does not have persistent files
ce2108h - simulator does not have persistent files
ce3112d - simulator does not have persistent files
c380004 - unknown reason for failure
c95066a - unknown reason for failure
c974013 - unknown reason for failure
cxg2018 - unknown reason for failure
cxg2021 - unknown reason for failure
======= Logs for failed tests ======