This is the mail archive of the gcc-testresults@gcc.gnu.org mailing list for the GCC project.


Index Nav: [Date Index] [Subject Index] [Author Index] [Thread Index]
Message Nav: [Date Prev] [Date Next] [Thread Prev] [Thread Next]
Other format: [Raw text]

Results for 4.2.4 testsuite on i686-pc-linux-gnu


This is using the GCC 4.2.4 Release tarball and is based on the
DIY Linux Reference Build recipe from:

  http://www.diy-linux.org/

Using these packages:

FSF binutils-2.18
glibc-2.7
kernel-headers-2.6.26

Running under a 2.6.26 kernel.

NOTE: This build is the third GCC iteration in the context of a full
      Linux system bootstrap, hence the `--disable-bootstrap' used here.

LAST_UPDATED: Obtained from SVN: tags/gcc_4_2_4_release revision 135573

Native configuration is i686-pc-linux-gnu

		=== g++ tests ===


Running target unix

		=== g++ Summary ===

# of expected passes		13654
# of expected failures		67
# of unsupported tests		74
/home/pkgmgr/src/gcc-build/gcc/testsuite/g++/../../g++  version 4.2.4

		=== gcc tests ===


Running target unix
UNRESOLVED: gcc.c-torture/execute/mayalias-2.c execution,  -O3 -g 

		=== gcc Summary ===

# of expected passes		42601
# of expected failures		116
# of unresolved testcases	1
# of untested testcases		28
# of unsupported tests		295
/home/pkgmgr/src/gcc-build/gcc/xgcc  version 4.2.4

		=== libgomp tests ===


Running target unix

		=== libgomp Summary ===

# of expected passes		496
		=== libmudflap tests ===


Running target unix

		=== libmudflap Summary ===

# of expected passes		1814
		=== libstdc++ tests ===


Running target unix
XPASS: 26_numerics/cmath/c99_classification_macros_c.cc (test for excess errors)

		=== libstdc++ Summary ===

# of expected passes		3853
# of unexpected successes	1
# of expected failures		14
# of unsupported tests		316

Compiler version: 4.2.4 
Platform: i686-pc-linux-gnu
configure flags: --libexecdir=/usr/lib --enable-shared --disable-bootstrap --enable-clocale=gnu --enable-threads=posix --enable-__cxa_atexit --enable-languages=c,c++


Index Nav: [Date Index] [Subject Index] [Author Index] [Thread Index]
Message Nav: [Date Prev] [Date Next] [Thread Prev] [Thread Next]