This is the mail archive of the
gcc-testresults@gcc.gnu.org
mailing list for the GCC project.
ACATS results for 20080918 (experimental) [trunk revision 140475] on sh-rtems4.10
- From: Joel Sherrill <joel dot sherrill at oarcorp dot com>
- To: gcc-testresults at gcc dot gnu dot org
- Date: Thu, 25 Sep 2008 14:31:37 -0500
- Subject: ACATS results for 20080918 (experimental) [trunk revision 140475] on sh-rtems4.10
- Reply-to: joel dot sherrill at oarcorp dot com
sh-rtems4.10-gcc (GCC) 4.4.0 20080918 (experimental) [trunk revision 140475]
=== acats Summary ===
# of expected passes 2299
# of unexpected failures 13
# of unsupported tests 3
ce2108f - simulator does not have persistent files
ce2108h - simulator does not have persistent files
ce3112d - simulator does not have persistent files
a22006b - unknown reason for failure
c380004 - unknown reason for failure
c45532m - unknown reason for failure
c45532o - unknown reason for failure
c45532p - unknown reason for failure
c953002 - ran too long, may eventually finish
c974013 - unknown reason for failure
cd1c04e - unknown reason for failure
cxa4009 - unknown reason for failure
cxa4020 - unknown reason for failure
cxg2018 - unknown reason for failure
cxg2019 - unknown reason for failure
cxg2021 - unknown reason for failure
======= Logs for failed tests ======