This is the mail archive of the gcc-testresults@gcc.gnu.org mailing list for the GCC project.


Index Nav: [Date Index] [Subject Index] [Author Index] [Thread Index]
Message Nav: [Date Prev] [Date Next] [Thread Prev] [Thread Next]
Other format: [Raw text]

ACATS results for on powerpc-rtems4.9


powerpc-rtems4.9-gcc (GCC) 4.3.2

=== acats Summary ===
# of expected passes 2305
# of unexpected failures 7
# of unsupported tests 3

ce2108f - simulator does not have persistent files
ce2108h - simulator does not have persistent files
ce3112d - simulator does not have persistent files
c380004 - unknown reason for failure
c3a1002 - unknown reason for failure
c974013 - unknown reason for failure
cxg2018 - unknown reason for failure
cxg2019 - unknown reason for failure
cxg2020 - FP exception - SIS simulator is not accurate enough
cxg2021 - unknown reason for failure

======= Logs for failed tests ======


Index Nav: [Date Index] [Subject Index] [Author Index] [Thread Index]
Message Nav: [Date Prev] [Date Next] [Thread Prev] [Thread Next]