This is the mail archive of the gcc-testresults@gcc.gnu.org mailing list for the GCC project.


Index Nav: [Date Index] [Subject Index] [Author Index] [Thread Index]
Message Nav: [Date Prev] [Date Next] [Thread Prev] [Thread Next]
Other format: [Raw text]

ACATS results for 20080910 (experimental) [trunk revision 140246] on mips-rtems4.9


mips-rtems4.9-gcc (GCC) 4.4.0 20080910 (experimental) [trunk revision 140246]

=== acats Summary ===
# of expected passes 2306
# of unexpected failures 6
# of unsupported tests 3

ce2108f - simulator does not have persistent files
ce2108h - simulator does not have persistent files
ce3112d - simulator does not have persistent files
a22006b - unknown reason for failure
c380004 - read from bad address
c41328a - INCORRECT RESULTS FROM DERIVED SUBPROGRAM - 3.
cd1c04e - unknown reason for failure
cxf3a01 - read from bad address
cxf3a02 - read from bad address

======= Logs for failed tests ======


Index Nav: [Date Index] [Subject Index] [Author Index] [Thread Index]
Message Nav: [Date Prev] [Date Next] [Thread Prev] [Thread Next]