This is the mail archive of the
gcc-testresults@gcc.gnu.org
mailing list for the GCC project.
ACATS results for 20080910 (experimental) [trunk revision 140246] on arm-rtems4.9
- From: Joel Sherrill <joel dot sherrill at oarcorp dot com>
- To: gcc-testresults at gcc dot gnu dot org
- Date: Sat, 13 Sep 2008 12:01:35 -0500
- Subject: ACATS results for 20080910 (experimental) [trunk revision 140246] on arm-rtems4.9
- Reply-to: joel dot sherrill at oarcorp dot com
arm-rtems4.9-gcc (GCC) 4.4.0 20080910 (experimental) [trunk revision 140246]
=== acats Summary ===
# of expected passes 2305
# of unexpected failures 7
# of unsupported tests 3
ce2108f - simulator does not have persistent files
ce2108h - simulator does not have persistent files
ce3112d - simulator does not have persistent files
a22006b - unknown reason for failure
c380004 - unknown reason for failure
c41328a - unknown reason for failure
c953002 - unknown reason for failure
c974001 - unknown reason for failure
c974013 - unknown reason for failure
c9a011b - unknown reason for failure
======= Logs for failed tests ======