This is the mail archive of the
gcc-testresults@gcc.gnu.org
mailing list for the GCC project.
ACATS results for 20080904 (experimental) [trunk revision 140009] on i386-rtems4.9
- From: Joel Sherrill <joel dot sherrill at oarcorp dot com>
- To: gcc-testresults at gcc dot gnu dot org
- Date: Fri, 5 Sep 2008 06:48:03 -0500
- Subject: ACATS results for 20080904 (experimental) [trunk revision 140009] on i386-rtems4.9
- Reply-to: joel dot sherrill at oarcorp dot com
i386-rtems4.9-gcc (GCC) 4.4.0 20080904 (experimental) [trunk revision 140009]
=== acats Summary ===
# of expected passes 2288
# of unexpected failures 24
# of unsupported tests 3
ce2108f - simulator does not have persistent files
ce2108h - simulator does not have persistent files
ce3112d - simulator does not have persistent files
c37402a - unknown reason for failure
c380004 - unknown reason for failure
c953002 - ran too long, some output
cd1009r - unknown reason for failure
ce2201d - unknown reason for failure
ce3704f - unknown reason for failure
cxa4005 - unknown reason for failure
cxg2002 - FPU precision issue on qemu
cxg2003 - FPU precision issue on qemu
cxg2004 - FPU precision issue on qemu
cxg2006 - FPU precision issue on qemu
cxg2007 - FPU precision issue on qemu
cxg2010 - FPU precision issue on qemu
cxg2011 - FPU precision issue on qemu
cxg2012 - FPU precision issue on qemu
cxg2013 - FPU precision issue on qemu
cxg2014 - ran too long, some output
cxg2015 - FPU precision issue on qemu
cxg2016 - FPU precision issue on qemu
cxg2017 - FPU precision issue on qemu
cxg2018 - FPU precision issue on qemu
cxg2019 - FPU precision issue on qemu
cxg2020 - FPU precision issue on qemu
cxg2021 - FPU precision issue on qemu
======= Logs for failed tests ======