This is the mail archive of the gcc-testresults@gcc.gnu.org mailing list for the GCC project.


Index Nav: [Date Index] [Subject Index] [Author Index] [Thread Index]
Message Nav: [Date Prev] [Date Next] [Thread Prev] [Thread Next]
Other format: [Raw text]

ACATS results for 20080904 (experimental) [trunk revision 139986] on sparc-rtems4.9


sparc-rtems4.9-gcc (GCC) 4.4.0 20080904 (experimental) [trunk revision 139986]

=== acats Summary ===
# of expected passes 2176
# of unexpected failures 131
# of unsupported tests 8

ce2108f - simulator does not have persistent files
ce2108h - simulator does not have persistent files
ce3112d - simulator does not have persistent files
cxg2005 - FP exception - SIS simulator is not accurate enough
cxg2012 - FP exception - SIS simulator is not accurate enough
cxg2014 - FP exception - SIS simulator is not accurate enough
cxg2017 - FP exception - SIS simulator is not accurate enough
cxg2020 - FP exception - SIS simulator is not accurate enough
c34002a - unknown reason for failure
c34005v - unknown reason for failure
c34006j - unknown reason for failure
c34007a - unknown reason for failure
c34007m - unknown reason for failure
c34007p - unknown reason for failure
c34007r - unknown reason for failure
c34007s - unknown reason for failure
c34007u - unknown reason for failure
c34008a - unknown reason for failure
c34009d - unknown reason for failure
c35102a - unknown reason for failure
c354002 - unknown reason for failure
c35507k - unknown reason for failure
c36204b - unknown reason for failure
c36205l - unknown reason for failure
c37009a - unknown reason for failure
c37213j - address exception
c37213k - alignment exception
c380004 - unknown reason for failure
c390004 - unknown reason for failure
c392002 - unknown reason for failure
c393a02 - unknown reason for failure
c41307d - unknown reason for failure
c41328a - unknown reason for failure
c43004a - unknown reason for failure
c43105b - unknown reason for failure
c43106a - unknown reason for failure
c433001 - unknown reason for failure
c45411d - unknown reason for failure
c45431a - unknown reason for failure
c455001 - unknown reason for failure
c46041a - unknown reason for failure
c46042a - unknown reason for failure
c46051b - unknown reason for failure
c47002c - unknown reason for failure
c47007a - alignment exception
c47009a - alignment exception
c64105d - unknown reason for failure
c64109h - unknown reason for failure
c64109i - unknown reason for failure
c64109k - unknown reason for failure
c64109l - unknown reason for failure
c760002 - unknown reason for failure
c761006 - unknown reason for failure
c85005a - unknown reason for failure
c85005b - unknown reason for failure
c85005c - unknown reason for failure
c85005e - unknown reason for failure
c85006a - unknown reason for failure
c85006b - unknown reason for failure
c85006c - unknown reason for failure
c85006d - unknown reason for failure
c85006e - unknown reason for failure
c85006g - unknown reason for failure
c85018b - unknown reason for failure
c940002 - unknown reason for failure
c940007 - unknown reason for failure
c940010 - unknown reason for failure
c940012 - unknown reason for failure
c95087a - unknown reason for failure
c95090a - unknown reason for failure
c95092a - unknown reason for failure
c953002 - ran too long, may eventually finish
c97114a - unknown reason for failure
c97201a - unknown reason for failure
c97203a - unknown reason for failure
c97203b - unknown reason for failure
c97301a - unknown reason for failure
c97303a - unknown reason for failure
c97303b - unknown reason for failure
ca11d02 - unknown reason for failure
cb20001 - unknown reason for failure
cc1224a - unknown reason for failure
cc3106b - unknown reason for failure
cc3224a - unknown reason for failure
cc3601a - unknown reason for failure
cd1c04e - unknown reason for failure
cd2a21a - unknown reason for failure
cd2a22a - unknown reason for failure
cd2a22e - unknown reason for failure
cd2a22j - unknown reason for failure
cd2a23a - unknown reason for failure
cd2a23e - unknown reason for failure
cd2a24a - unknown reason for failure
cd2a24e - unknown reason for failure
cd2a24i - unknown reason for failure
cd2a31a - unknown reason for failure
cd2a32a - unknown reason for failure
cd2a32e - unknown reason for failure
ce3409c - unknown reason for failure
cxa3002 - unknown reason for failure
cxa4001 - unknown reason for failure
cxa4004 - unknown reason for failure
cxa4005 - unknown reason for failure
cxa4007 - unknown reason for failure
cxa4010 - unknown reason for failure
cxa4016 - unknown reason for failure
cxa4018 - unknown reason for failure
cxa4020 - unknown reason for failure
cxa4021 - unknown reason for failure
cxa4026 - unknown reason for failure
cxa4027 - unknown reason for failure
cxa4028 - unknown reason for failure
cxa4029 - unknown reason for failure
cxa5a01 - unknown reason for failure
cxa5a02 - unknown reason for failure
cxa5a03 - unknown reason for failure
cxa5a04 - unknown reason for failure
cxa5a05 - unknown reason for failure
cxa5a06 - unknown reason for failure
cxa5a07 - unknown reason for failure
cxa5a10 - unknown reason for failure
cxa8003 - unknown reason for failure
cxaa005 - unknown reason for failure
cxac004 - unknown reason for failure
cxac005 - unknown reason for failure
cxacb01 - unknown reason for failure
cxacc01 - unknown reason for failure
cxb3007 - unknown reason for failure
cxb3009 - unknown reason for failure
cxb3011 - unknown reason for failure
cxb4004 - unknown reason for failure
cxb4005 - unknown reason for failure
cxb4008 - unknown reason for failure
cxf3001 - unknown reason for failure
cxf3002 - unknown reason for failure
cxg1001 - unknown reason for failure
cxg1005 - unknown reason for failure
cxh3002 - unknown reason for failure
cz1102a - unknown reason for failure

======= Logs for failed tests ======


Index Nav: [Date Index] [Subject Index] [Author Index] [Thread Index]
Message Nav: [Date Prev] [Date Next] [Thread Prev] [Thread Next]