This is the mail archive of the
gcc-testresults@gcc.gnu.org
mailing list for the GCC project.
ACATS results for 20080812 (experimental) [trunk revision 139039] on powerpc-rtems4.9
- From: Joel Sherrill <joel dot sherrill at oarcorp dot com>
- To: gcc-testresults at gcc dot gnu dot org
- Date: Wed, 13 Aug 2008 06:45:34 -0500
- Subject: ACATS results for 20080812 (experimental) [trunk revision 139039] on powerpc-rtems4.9
- Reply-to: joel dot sherrill at oarcorp dot com
powerpc-rtems4.9-gcc (GCC) 4.4.0 20080812 (experimental) [trunk revision 139039]
=== acats Summary ===
# of expected passes 2308
# of unexpected failures 4
# of unsupported tests 3
ce2108f - simulator does not have persistent files
ce2108h - simulator does not have persistent files
ce3112d - simulator does not have persistent files
c41328a - INCORRECT RESULTS FROM DERIVED SUBPROGRAM - 3.
cd2a24e - GNAT BUG DETECTED -- follow up required
cxa9002 - GNAT BUG DETECTED -- follow up required
la14021 - GNAT BUG DETECTED -- follow up required
======= Logs for failed tests ======