This is the mail archive of the
gcc-testresults@gcc.gnu.org
mailing list for the GCC project.
ACATS Results for sparc-rtems4.9 4.3.0 on Fedora 8
- From: Joel Sherrill <joel dot sherrill at oarcorp dot com>
- To: <gcc-testresults at gcc dot gnu dot org>
- Date: Wed, 7 May 2008 12:28:33 -0500
- Subject: ACATS Results for sparc-rtems4.9 4.3.0 on Fedora 8
Target: sparc-rtems4.9-gcc (GCC) 4.3.0
Host: Fedora 8
Includes patches from
PR35284 - branch to 0x0 on i386
PR35576 - Ada HW Interrupt Task Enhancement
=== acats Summary ===
# of expected passes 2299
# of unexpected failures 8
# of unsupported tests 8
c37213j - address exception
c37213k - alignment exception
c47007a - alignment exception
c47009a - illegal instruction
c64005c - WRONG ITERATIVE TRACE LENGTH.
c64005d - WRONG ITERATIVE TRACE LENGTH.
c953002 - ran too long, may finish
c974013 - ran too long, may finish