This is the mail archive of the gcc-testresults@gcc.gnu.org mailing list for the GCC project.


Index Nav: [Date Index] [Subject Index] [Author Index] [Thread Index]
Message Nav: [Date Prev] [Date Next] [Thread Prev] [Thread Next]
Other format: [Raw text]

ACATS Results for mips-rtems4.9 4.2.3 on Fedora 8


Target: mips-rtems4.9-gcc (GCC) 4.2.3
Host: Fedora 8

Includes patches from
PR35284 - branch to 0x0 on i386
PR35576 - Ada HW Interrupt Task Enhancement

=== acats Summary ===
# of expected passes 2309
# of unexpected failures 3
# of unsupported tests 3

Failures:

c38004 - access to bad address
cxf3a01 - access to bad address
cxf3a02 - access to bad address


Index Nav: [Date Index] [Subject Index] [Author Index] [Thread Index]
Message Nav: [Date Prev] [Date Next] [Thread Prev] [Thread Next]