This is the mail archive of the
gcc-testresults@gcc.gnu.org
mailing list for the GCC project.
ACATS mips-rtems4.9 4.4.0 (20080403)
- From: Joel Sherrill <joel dot sherrill at oarcorp dot com>
- To: <gcc-testresults at gcc dot gnu dot org>
- Date: Fri, 4 Apr 2008 09:13:53 -0500
- Subject: ACATS mips-rtems4.9 4.4.0 (20080403)
mips-rtems4.9-gcc (GCC) 4.4.0 20080403 (experimental) [trunk revision
133868]
=== acats Summary ===
# of expected passes 2302
# of unexpected failures 10
# of unsupported tests 3
*** FAILURES: c380004 c64005c c64005d c953002 cxf3a01 cxf3a02 cxg2018
cxg2019 cxg2020 cxg2021
c380004 - bad memory access
c64005c - "WRONG ITERATIVE TRACE LENGTH"
c64005d - "WRONG ITERATIVE TRACE LENGTH"
c953002 - out of heap (BSP has too little configured)
cxf3a01 - bad memory access
cxf3a02 - bad memory access
cxg2018 - hung after test output started, killed, likely FP exception
cxg2019 - hung after test output started, killed, likely FP exception
cxg2020 - hung after test output started, killed, likely FP exception
cxg2021 - hung after test output started, killed, likely FP exception