This is the mail archive of the
gcc-testresults@gcc.gnu.org
mailing list for the GCC project.
Results for 4.2.4 20080306 (prerelease) gcc testsuite on mips-unknown-elf
- From: Mike Stein <mstein dot lists at googlemail dot com>
- To: gcc-testresults at gcc dot gnu dot org
- Date: Fri, 7 Mar 2008 23:50:15 +0100
- Subject: Results for 4.2.4 20080306 (prerelease) gcc testsuite on mips-unknown-elf
- Reply-to: gcc at gcc dot gnu dot org
Debian 4 on x86_64
cross tool versions:
GNU assembler (GNU Binutils) 2.18.50.20080302
GNU gdb 6.8.50.20080301-cvs
GNU ld (GNU Binutils) 2.18.50.20080302
GNU Make 3.81
expect version 5.43.0
host gcc version: gcc (GCC) 4.1.2 20061115 (prerelease) (Debian 4.1.1-21)
LAST_UPDATED: Thu Mar 6 23:05:19 UTC 2008 (revision 132993)
Target is mips-unknown-elf
Host is x86_64-unknown-linux-gnu
=== gcc tests ===
Running target mips-sim
UNRESOLVED: gcc.c-torture/execute/mayalias-2.c execution, -O3 -g
XPASS: gcc.dg/tree-ssa/20040204-1.c scan-tree-dump-times link_error 0
=== gcc Summary ===
# of expected passes 40881
# of unexpected successes 1
# of expected failures 78
# of unresolved testcases 1
# of untested testcases 28
# of unsupported tests 377
/home/mstein/sim/gcc-4_2-branch/mips-elf/build/gcc/xgcc version 4.2.4 20080306 (prerelease)
Compiler version: 4.2.4 20080306 (prerelease) gcc
Platform: mips-unknown-elf
configure flags: --target=mips-elf --prefix=/home/mstein/cross-local/mips-elf --disable-nls --disable-build-warnings --with-ld=/home/mstein/cross-local/mips-elf/bin/mips-elf-ld --with-as=/home/mstein/cross-local/mips-elf/bin/mips-elf-as --disable-libssp --enable-languages=c