This is the mail archive of the
gcc-testresults@gcc.gnu.org
mailing list for the GCC project.
Results for 4.4.0 20080306 (experimental) [trunk revision 132965] (GCC) testsuite on i686-pc-linux-gnu
- From: hjl at gnu-25 dot sc dot intel dot com (H.J. Lu)
- To: gcc-testresults at gcc dot gnu dot org
- Date: Wed, 5 Mar 2008 21:07:04 -0800 (PST)
- Subject: Results for 4.4.0 20080306 (experimental) [trunk revision 132965] (GCC) testsuite on i686-pc-linux-gnu
LAST_UPDATED: Thu Mar 6 03:09:55 UTC 2008 (revision 132965)
=== acats tests ===
=== acats Summary ===
# of expected passes 2315
# of unexpected failures 0
Native configuration is i686-pc-linux-gnu
=== gcc tests ===
Running target unix
=== gcc Summary ===
# of expected passes 49065
# of expected failures 168
# of untested testcases 35
# of unsupported tests 262
/export/build/gnu/gcc-ada/build-i686-linux/gcc/xgcc version 4.4.0 20080306 (experimental) [trunk revision 132965] (GCC)
=== gfortran tests ===
Running target unix
=== gfortran Summary ===
# of expected passes 23894
# of expected failures 3
# of unsupported tests 16
/export/build/gnu/gcc-ada/build-i686-linux/gcc/testsuite/gfortran/../../gfortran version 4.4.0 20080306 (experimental) [trunk revision 132965] (GCC)
=== g++ tests ===
Running target unix
=== g++ Summary ===
# of expected passes 17532
# of expected failures 82
# of unsupported tests 89
/export/build/gnu/gcc-ada/build-i686-linux/gcc/testsuite/g++/../../g++ version 4.4.0 20080306 (experimental) [trunk revision 132965] (GCC)
=== gnat tests ===
Running target unix
=== gnat Summary ===
# of expected passes 352
=== obj-c++ tests ===
Running target unix
WARNING: obj-c++.dg/lookup-2.mm compilation failed to produce executable
WARNING: obj-c++.dg/try-catch-2.mm compilation failed to produce executable
WARNING: obj-c++.dg/try-catch-9.mm compilation failed to produce executable
=== obj-c++ Summary ===
# of expected passes 437
# of expected failures 9
# of unsupported tests 13
/export/build/gnu/gcc-ada/build-i686-linux/gcc/testsuite/obj-c++/../../g++ version 4.4.0 20080306 (experimental) [trunk revision 132965] (GCC)
=== objc tests ===
Running target unix
=== objc Summary ===
# of expected passes 1812
# of expected failures 7
# of unsupported tests 24
/export/build/gnu/gcc-ada/build-i686-linux/gcc/xgcc version 4.4.0 20080306 (experimental) [trunk revision 132965] (GCC)
=== libffi tests ===
Running target unix
=== libffi Summary ===
# of expected passes 1389
# of unsupported tests 10
=== libgomp tests ===
Running target unix
=== libgomp Summary ===
# of expected passes 1699
=== libjava tests ===
Running target unix
=== libjava Summary ===
# of expected passes 2550
=== libmudflap tests ===
Running target unix
=== libmudflap Summary ===
# of expected passes 1849
=== libstdc++ tests ===
Running target unix
XPASS: 26_numerics/headers/cmath/c99_classification_macros_c.cc (test for excess errors)
=== libstdc++ Summary ===
# of expected passes 5598
# of unexpected successes 1
# of expected failures 62
# of unsupported tests 10
Compiler version: 4.4.0 20080306 (experimental) [trunk revision 132965] (GCC)
Platform: i686-pc-linux-gnu
configure flags: --enable-clocale=gnu --with-system-zlib --enable-checking=assert --with-demangler-in-ld --enable-languages=c,c++,fortran,ada,java,objc,obj-c++ --enable-shared --enable-threads=posix --enable-haifa --prefix=/usr/gcc-4.3 --with-local-prefix=/usr/local