This is the mail archive of the
gcc-testresults@gcc.gnu.org
mailing list for the GCC project.
Results for 4.2.4 20080208 (prerelease) gcc testsuite on mips-unknown-elf
- From: Mike Stein <mstein dot lists at googlemail dot com>
- To: gcc-testresults at gcc dot gnu dot org
- Date: Sat, 9 Feb 2008 23:50:14 +0100
- Subject: Results for 4.2.4 20080208 (prerelease) gcc testsuite on mips-unknown-elf
- Reply-to: gcc at gcc dot gnu dot org
Debian 4 on x86_64
cross tool versions:
GNU assembler (GNU Binutils) 2.18.50.20080203
GNU gdb 6.7.50.20080202-cvs
GNU ld (GNU Binutils) 2.18.50.20080203
GNU Make 3.81
expect version 5.43.0
host gcc version: gcc (GCC) 4.3.0 20080208 (experimental) [trunk revision 132188]
LAST_UPDATED: Fri Feb 8 23:03:52 UTC 2008 (revision 132188)
Target is mips-unknown-elf
Host is x86_64-unknown-linux-gnu
=== gcc tests ===
Running target mips-sim
UNRESOLVED: gcc.c-torture/execute/mayalias-2.c execution, -O3 -g
XPASS: gcc.dg/tree-ssa/20040204-1.c scan-tree-dump-times link_error 0
=== gcc Summary ===
# of expected passes 40867
# of unexpected successes 1
# of expected failures 78
# of unresolved testcases 1
# of untested testcases 28
# of unsupported tests 377
/home/mstein/sim/gcc-4_2-branch/mips-elf/build/gcc/xgcc version 4.2.4 20080208 (prerelease)
Compiler version: 4.2.4 20080208 (prerelease) gcc
Platform: mips-unknown-elf
configure flags: --target=mips-elf --prefix=/n/11/mstein/cross-local/mips-elf --disable-nls --disable-build-warnings --with-ld=/n/11/mstein/cross-local/mips-elf/bin/mips-elf-ld --with-as=/n/11/mstein/cross-local/mips-elf/bin/mips-elf-as --disable-libssp --enable-languages=c