This is the mail archive of the
gcc-testresults@gcc.gnu.org
mailing list for the GCC project.
Results for 4.2.2 20070914 (prerelease) gcc testsuite on mips-unknown-elf
- From: Mike Stein <mstein at phenix dot rootshell dot be>
- To: gcc-testresults at gcc dot gnu dot org
- Date: Sat, 15 Sep 2007 23:50:13 +0200
- Subject: Results for 4.2.2 20070914 (prerelease) gcc testsuite on mips-unknown-elf
- Reply-to: gcc at gcc dot gnu dot org
Debian 4 on x86_64
cross tool versions:
GNU assembler (GNU Binutils) 2.18.50.20070908
GNU gdb 6.6.50.20070908-cvs
GNU ld (GNU Binutils) 2.18.50.20070908
GNU Make 3.81
expect version 5.43.0
host gcc version: gcc (GCC) 4.3.0 20070914 (experimental) [trunk revision 128505]
LAST_UPDATED: Fri Sep 14 22:04:07 UTC 2007 (revision 128505)
Target is mips-unknown-elf
Host is x86_64-unknown-linux-gnu
=== gcc tests ===
Running target mips-sim
UNRESOLVED: gcc.c-torture/execute/mayalias-2.c execution, -O3 -g
XPASS: gcc.dg/tree-ssa/20040204-1.c scan-tree-dump-times link_error 0
=== gcc Summary ===
# of expected passes 40583
# of unexpected successes 1
# of expected failures 78
# of unresolved testcases 1
# of untested testcases 28
# of unsupported tests 374
/home/mstein/sim/mips-elf/build/gcc/xgcc version 4.2.2 20070914 (prerelease)
Compiler version: 4.2.2 20070914 (prerelease) gcc
Platform: mips-unknown-elf
configure flags: --target=mips-elf --prefix=/n/11/mstein/cross-local/mips-elf --disable-nls --disable-build-warnings --with-ld=/n/11/mstein/cross-local/mips-elf/bin/mips-elf-ld --with-as=/n/11/mstein/cross-local/mips-elf/bin/mips-elf-as --disable-libssp --enable-languages=c