This is the mail archive of the gcc-testresults@gcc.gnu.org mailing list for the GCC project.


Index Nav: [Date Index] [Subject Index] [Author Index] [Thread Index]
Message Nav: [Date Prev] [Date Next] [Thread Prev] [Thread Next]
Other format: [Raw text]

Results for 4.2.2 20070910 (prerelease) testsuite on i686-pc-linux-gnu


This is a Red Hat Enterprise (GNU/)Linux WS release 3 system
(yes, horribly old) running on a dual 2.2 GHz Intel Xeon system.

boot compiler: gcc 3.4.2

kernel: 2.4.21-32.EL (from Red Hat)
glibc: 2.3.2-95.33 (from Red Hat)
binutils: 2.17 (FSF release)
MPFR: 2.2.1

Only C, C++, ObjC, and Fortran are tested (no Java).
LAST_UPDATED: Mon Sep 10 07:37:33 UTC 2007 (revision 128323)

Native configuration is i686-pc-linux-gnu

		=== g++ tests ===


Running target unix
XPASS: g++.dg/tree-ssa/ivopts-1.C scan-tree-dump-not offset: -4B
XPASS: g++.dg/tree-ssa/ivopts-1.C scan-tree-dump-not &x\\[5\\]

		=== g++ Summary ===

# of expected passes		13571
# of unexpected successes	2
# of expected failures		66
# of unsupported tests		74
/var/tmp/gccbuild/4_2_branch/gcc/testsuite/g++/../../g++  version 4.2.2 20070910 (prerelease)

		=== gcc tests ===


Running target unix
UNRESOLVED: gcc.c-torture/execute/mayalias-2.c execution,  -O3 -g 

		=== gcc Summary ===

# of expected passes		42210
# of expected failures		116
# of unresolved testcases	1
# of untested testcases		28
# of unsupported tests		293
/var/tmp/gccbuild/4_2_branch/gcc/xgcc  version 4.2.2 20070910 (prerelease)

		=== gfortran tests ===


Running target unix

		=== gfortran Summary ===

# of expected passes		16263
# of expected failures		15
# of unsupported tests		16
/var/tmp/gccbuild/4_2_branch/gcc/testsuite/gfortran/../../gfortran  version 4.2.2 20070910 (prerelease)

		=== objc tests ===


Running target unix

		=== objc Summary ===

# of expected passes		1806
# of expected failures		7
# of unsupported tests		24
/var/tmp/gccbuild/4_2_branch/gcc/xgcc  version 4.2.2 20070910 (prerelease)

		=== libgomp tests ===


Running target unix

		=== libgomp Summary ===

# of expected passes		1574
		=== libmudflap tests ===


Running target unix

		=== libmudflap Summary ===

# of expected passes		1814
		=== libstdc++ tests ===


Running target unix
XPASS: 26_numerics/cmath/c99_classification_macros_c.cc (test for excess errors)

		=== libstdc++ Summary ===

# of expected passes		1740
# of unexpected successes	1
# of expected failures		8

Compiler version: 4.2.2 20070910 (prerelease) 
Platform: i686-pc-linux-gnu
configure flags: --prefix=/usr/localdisk/gcc-cvs/4_2_branch --with-gnu-as --with-as=/remote/atg5/jbuck/binutils-2.17-linux/bin/as --with-gnu-ld --with-ld=/remote/atg5/jbuck/binutils-2.17-linux/bin/ld --with-mpfr=/remote/atg5/jbuck/mpfr-linux --enable-languages=c,c++,fortran,objc


Index Nav: [Date Index] [Subject Index] [Author Index] [Thread Index]
Message Nav: [Date Prev] [Date Next] [Thread Prev] [Thread Next]