This is the mail archive of the
gcc-testresults@gcc.gnu.org
mailing list for the GCC project.
Results for 4.3.0 20070820 (experimental) [trunk revision 127634] testsuite on x86_64-unknown-linux-gnu
- From: Joey Ye <jye2 at shgcc-2 dot sh dot intel dot com>
- To: gcc-testresults at gcc dot gnu dot org
- Date: Mon, 20 Aug 2007 18:28:13 +0800
- Subject: Results for 4.3.0 20070820 (experimental) [trunk revision 127634] testsuite on x86_64-unknown-linux-gnu
LAST_UPDATED: Mon Aug 20 08:23:53 UTC 2007 (revision 127634)
Native configuration is x86_64-unknown-linux-gnu
=== g++ tests ===
=== g++ Summary ===
/home/jye2/gcc/build-daily/gcc/testsuite/g++/../../g++ version 4.3.0 20070820 (experimental) [trunk revision 127634]
=== gcc tests ===
=== gcc Summary ===
/home/jye2/gcc/build-daily/gcc/xgcc version 4.3.0 20070820 (experimental) [trunk revision 127634]
=== gfortran tests ===
=== gfortran Summary ===
/home/jye2/gcc/build-daily/gcc/testsuite/gfortran/../../gfortran version 4.3.0 20070820 (experimental) [trunk revision 127634]
=== objc tests ===
=== objc Summary ===
/home/jye2/gcc/build-daily/gcc/xgcc version 4.3.0 20070820 (experimental) [trunk revision 127634]
=== libffi tests ===
=== libffi Summary ===
=== libgomp tests ===
=== libgomp Summary ===
=== libjava tests ===
=== libjava Summary ===
=== libmudflap tests ===
=== libmudflap Summary ===
=== libstdc++ tests ===
=== libstdc++ Summary ===
Compiler version: 4.3.0 20070820 (experimental) [trunk revision 127634]
Platform: x86_64-unknown-linux-gnu
configure flags: --enable-clocale=gnu --with-system-zlib --enable-decimal-float=bid --with-demangler-in-ld --enable-shared --enable-threads=posix --enable-haifa --enable-checking=assert