This is the mail archive of the
gcc-testresults@gcc.gnu.org
mailing list for the GCC project.
Results for 4.1.2 testsuite on hppa64-hp-hpux11.11
- From: John David Anglin <dave at hiauly3 dot hia dot nrc dot ca>
- To: dave at hiauly3 dot hia dot nrc dot ca, gcc-testresults at gcc dot gnu dot org
- Date: Fri, 16 Feb 2007 18:13:09 -0500 (EST)
- Subject: Results for 4.1.2 testsuite on hppa64-hp-hpux11.11
LAST_UPDATED: Thu Feb 15 02:35:59 UTC 2007 (revision 121975)
Native configuration is hppa64-hp-hpux11.11
=== g++ tests ===
Running target unix
XPASS: g++.dg/eh/weak1.C execution test
XPASS: g++.dg/tree-ssa/pr14814.C scan-tree-dump-times &this 0
=== g++ Summary ===
# of expected passes 11686
# of unexpected successes 2
# of expected failures 67
# of unsupported tests 132
/mnt/gnu/gcc/objdir/gcc/testsuite/g++/../../g++ version 4.1.2
=== gcc tests ===
Running target unix
XPASS: gcc.dg/cpp/cmdlne-dI-M.c scan-file (^|\\\\n)cmdlne-dI-M.*:[^\\\\n]*cmdlne-dI-M.c
XPASS: gcc.dg/cpp/cmdlne-dM-M.c scan-file (^|\\\\n)cmdlne-dM-M[^\\\\n]*:[^\\\\n]*cmdlne-dM-M.c
XPASS: gcc.dg/funcorder.c scan-assembler-not link_error,%r
=== gcc Summary ===
# of expected passes 37099
# of unexpected successes 3
# of expected failures 77
# of untested testcases 28
# of unsupported tests 371
/mnt/gnu/gcc/objdir/gcc/xgcc version 4.1.2
=== gfortran tests ===
Running target unix
=== gfortran Summary ===
# of expected passes 13460
# of expected failures 4
# of unsupported tests 90
/mnt/gnu/gcc/objdir/gcc/testsuite/gfortran/../../gfortran version 4.1.2
=== objc tests ===
Running target unix
=== objc Summary ===
# of expected passes 1720
# of unsupported tests 23
/mnt/gnu/gcc/objdir/gcc/xgcc version 4.1.2
=== libstdc++ tests ===
Running target unix
=== libstdc++ Summary ===
# of expected passes 3370
# of expected failures 12
# of unsupported tests 338
Compiler version: 4.1.2
Platform: hppa64-hp-hpux11.11
configure flags: --with-gnu-as --with-as=/opt/gnu64/bin/as --with-ld=/usr/ccs/bin/ld --enable-shared --with-local-prefix=/opt/gnu64 --prefix=/opt/gnu64/gcc/gcc-4.1.2 --host=hppa64-hp-hpux11.11 --enable-threads=posix --disable-nls --disable-checking --with-gmp=/opt/gnu64/gcc/gcc-4.1.2 --enable-languages=c,c++,fortran,java,objc