This is the mail archive of the
gcc-testresults@gcc.gnu.org
mailing list for the GCC project.
Results for 4.1.2 20061120 (prerelease) [gcc-4_1-branch revision 119024] testsuite on x86_64-unknown-linux-gnu
- From: hjl at gnu-26 dot sc dot intel dot com (H.J. Lu)
- To: gcc-testresults at gcc dot gnu dot org
- Date: Mon, 20 Nov 2006 16:25:02 -0800 (PST)
- Subject: Results for 4.1.2 20061120 (prerelease) [gcc-4_1-branch revision 119024] testsuite on x86_64-unknown-linux-gnu
LAST_UPDATED: Mon Nov 20 19:59:15 UTC 2006 (revision 119024)
Native configuration is x86_64-unknown-linux-gnu
=== gcc tests ===
Running target unix
=== gcc Summary ===
# of expected passes 38782
# of expected failures 100
# of untested testcases 28
# of unsupported tests 359
/export/build/gnu/gcc-4.1/build-x86_64-linux/gcc/xgcc version 4.1.2 20061120 (prerelease) [gcc-4_1-branch revision 119024]
=== gfortran tests ===
Running target unix
XPASS: gfortran.dg/csqrt_2.f -O0 execution test
XPASS: gfortran.dg/csqrt_2.f -O1 execution test
XPASS: gfortran.dg/csqrt_2.f -O2 execution test
XPASS: gfortran.dg/csqrt_2.f -O3 -fomit-frame-pointer execution test
XPASS: gfortran.dg/csqrt_2.f -O3 -fomit-frame-pointer -funroll-loops execution test
XPASS: gfortran.dg/csqrt_2.f -O3 -fomit-frame-pointer -funroll-all-loops -finline-functions execution test
XPASS: gfortran.dg/csqrt_2.f -O3 -g execution test
XPASS: gfortran.dg/csqrt_2.f -Os execution test
XPASS: gfortran.dg/vect/vect-5.f90 -O scan-tree-dump-times vectorized 2 loops 1
XPASS: gfortran.dg/vect/vect-5.f90 -O scan-tree-dump-times Alignment of access forced using peeling 1
XPASS: gfortran.dg/vect/vect-5.f90 -O scan-tree-dump-times Vectorizing an unaligned access 2
=== gfortran Summary ===
# of expected passes 13466
# of unexpected successes 11
# of expected failures 5
# of unsupported tests 16
/export/build/gnu/gcc-4.1/build-x86_64-linux/gcc/testsuite/gfortran/../../gfortran version 4.1.2 20061120 (prerelease) [gcc-4_1-branch revision 119024]
=== g++ tests ===
Running target unix
XPASS: g++.dg/tree-ssa/pr14814.C scan-tree-dump-times &this 0
=== g++ Summary ===
# of expected passes 12273
# of unexpected successes 1
# of expected failures 67
# of unsupported tests 98
/export/build/gnu/gcc-4.1/build-x86_64-linux/gcc/testsuite/g++/../../g++ version 4.1.2 20061120 (prerelease) [gcc-4_1-branch revision 119024]
=== objc tests ===
Running target unix
=== objc Summary ===
# of expected passes 1692
# of unsupported tests 22
/export/build/gnu/gcc-4.1/build-x86_64-linux/gcc/xgcc version 4.1.2 20061120 (prerelease) [gcc-4_1-branch revision 119024]
=== libffi tests ===
Running target unix
=== libffi Summary ===
# of expected passes 228
# of unsupported tests 2
=== libjava tests ===
Running target unix
=== libjava Summary ===
# of expected passes 4060
# of expected failures 10
# of untested testcases 8
=== libmudflap tests ===
Running target unix
=== libmudflap Summary ===
# of expected passes 1799
=== libstdc++ tests ===
Running target unix
XPASS: 26_numerics/cmath/c99_classification_macros_c.cc (test for excess errors)
XPASS: 27_io/fpos/14320-1.cc execution test
=== libstdc++ Summary ===
# of expected passes 4012
# of unexpected successes 2
# of expected failures 11
# of unsupported tests 17
Compiler version: 4.1.2 20061120 (prerelease) [gcc-4_1-branch revision 119024]
Platform: x86_64-unknown-linux-gnu
configure flags: --enable-clocale=gnu --with-system-zlib --disable-libunwind-exceptions --with-demangler-in-ld --enable-shared --enable-threads=posix --enable-haifa --disable-checking --prefix=/usr/gcc-4.1 --with-local-prefix=/usr/local --enable-languages=c,c++,fortran,java,objc