This is the mail archive of the
gcc-testresults@gcc.gnu.org
mailing list for the GCC project.
Results for 4.2.0 20061102 (prerelease) gfortran testsuite on i686-pc-linux-gnu
- From: fxcoudert at localhost dot localdomain
- To: gcc-testresults at gcc dot gnu dot org
- Date: Thu, 2 Nov 2006 06:01:46 +0100 (CET)
- Subject: Results for 4.2.0 20061102 (prerelease) gfortran testsuite on i686-pc-linux-gnu
LAST_UPDATED:
Native configuration is i686-pc-linux-gnu
=== gfortran tests ===
Running target unix
=== gfortran Summary ===
# of expected passes 14900
# of expected failures 15
# of unsupported tests 16
/home/fxcoudert/gfortran_nightbuild/ibin-20061102/gcc/testsuite/gfortran/../../gfortran version 4.2.0 20061102 (prerelease)
Compiler version: 4.2.0 20061102 (prerelease) gfortran
Platform: i686-pc-linux-gnu
configure flags: --prefix=/home/fxcoudert/gfortran_nightbuild/irun-20061102 --enable-languages=c,fortran --with-gmp=/home/fxcoudert/gfortran_nightbuild/software,;t t