This is the mail archive of the
gcc-testresults@gcc.gnu.org
mailing list for the GCC project.
Results for 4.2.0 20061019 (experimental) gfortran testsuite on x86_64-unknown-linux-gnu
- From: coudert at quatramaran dot ens dot fr (François-Xavier Coudert)
- To: gcc-testresults at gcc dot gnu dot org
- Date: Thu, 19 Oct 2006 13:31:18 +0200 (CEST)
- Subject: Results for 4.2.0 20061019 (experimental) gfortran testsuite on x86_64-unknown-linux-gnu
LAST_UPDATED:
Native configuration is x86_64-unknown-linux-gnu
=== gfortran tests ===
Running target unix
=== gfortran Summary ===
# of expected passes 14790
# of expected failures 15
# of unsupported tests 17
/var/tmp/gfortran-20061019/ibin/gcc/testsuite/gfortran/../../gfortran version 4.2.0 20061019 (experimental)
Compiler version: 4.2.0 20061019 (experimental) gfortran
Platform: x86_64-unknown-linux-gnu
configure flags: --prefix=/var/tmp/gfortran-20061019/irun --enable-languages=c,fortran --with-gmp=/var/tmp/gfortran-20061019/gfortran_libs,;t t